Workbook
Name v_Item_Shipping_Cost_In: Statistics!$B$23
Name v_Item_Shipping_Cost_Out: Statistics!$B$14

Sheet Company Names
A1: Rank | B1: Name | C1: CardMarket | D1: Companies House | E1: Domain | F1: YouTube | G1: Tierney Approved | H1: Notes
A2: 1 | B2: Shuffle & Skirmish | C2: TRUE | D2: TRUE | E2: TRUE | F2: TRUE | G2: TRUE
A3: 2 | B3: Mana & Miniatures | C3: TRUE | D3: TRUE | E3: TRUE | F3: TRUE | G3: TRUE
A4: 3 | B4: Draw & Deploy | C4: TRUE | D4: TRUE | E4: TRUE | F4: TRUE | G4: FALSE
A5: 4 | B5: Sum of All Plays | C5: TRUE | D5: TRUE | E5: TRUE | F5: TRUE | G5: FALSE
A6: 5 | B6: Shufflin' & Scufflin' | C6: TRUE | D6: TRUE | E6: TRUE | F6: TRUE | G6: FALSE | H6: Gullen family favourite, Name clashes with content on YT
A7: 6 | B7: Strategic Shuffle | C7: TRUE | D7: TRUE | E7: FALSE | F7: TRUE | G7: FALSE
A8: 7 | B8: Deck Check | C8: TRUE | D8: TRUE | F8: FALSE | G8: TRUE
A9: 8 | B9: Friendly Fire Gaming | C9: TRUE | D9: TRUE | F9: FALSE | G9: FALSE
A10: 9 | B10: Tabletop Chronicles | C10: TRUE | D10: TRUE | F10: FALSE | G10: TRUE
A11: 10 | B11: Critical Collection | C11: TRUE | D11: TRUE | F11: FALSE | G11: FALSE
A12: 11 | B12: Expected Value Gaming | C12: TRUE | D12: TRUE | F12: FALSE | G12: FALSE
A13: 12 | B13: Casual Competitive Gaming | D13: TRUE | G13: FALSE | H13: Juxtaposition Mouthful Lots of similar names
A14: 13 | B14: Calculated Gaming | D14: TRUE | G14: FALSE | H14: Saturated name
A15: 14 | B15: Plus One Gaming | D15: TRUE | G15: FALSE | H15: Saturated name
A16: 15 | B16: Calculate And Conquer | D16: TRUE | G16: FALSE | H16: Saturated name
A17: 16 | B17: Odds & Minis | D17: TRUE | G17: FALSE | H17: Saturated name
A18: 17 | B18: Roll & Calculate | D18: TRUE | G18: FALSE | H18: Saturated name
A19: 18 | B19: Tactical Table Gaming | D19: TRUE | G19: FALSE | H19: Saturated name
A20: 19 | B20: Measured Moves Gaming | D20: TRUE | G20: FALSE | H20: Saturated name
A21: 20 | B21: Tap That Gaming | D21: TRUE | G21: FALSE | H21: Too degrading to women?
A22: 21 | B22: The Gaming Table | D22: TRUE | G22: TRUE | H22: Too long? "The Games Table" exists on CH
A23: 22 | B23: Optimal Play Gaming | D23: TRUE | G23: FALSE | H23: Very saturated name
A24: 23 | B24: The Hobby Hub | D24: FALSE | G24: FALSE
A25: 24 | B25: Card It | D25: FALSE | G25: FALSE

Sheet MTG Set Lookup Table
A1: Index | B1: Set Type | C1: Buy Window (Months) | D1: Why | E1: Heavy Printing Months | F1: Tapering Months | G1: Final Print Run Months | H1: Sell Window (Months) | I1: Buy Window Month Start | J1: Buy Window Month End | K1: Heavy Printing Window Month Start | L1: Heavy Printing Window Month End | M1: Sell Window Month Start | N1: Sell Window Month End | Q1: My Set Type | R1: Corresponding Scryfall Set Type(s) | W1: Set Name | X1: Card Count | Y1: Released On | Z1: Type Name | AA1: Language Codes
A2: 1 | B2: Standard Expansion | C2: 18-24 | D2: Approaching end of print, prices haven't spiked yet | E2: 1-18 | F2: 18-24 | G2: 24-30 | H2: 36-48+ | I2: 18 | J2: 24 | K2: {=_xlfn.NUMBERVALUE(INDEX(_xlfn.TEXTSPLIT(tbl_MTG_Set_Type[[#This Row],[Heavy Printing Months]], "-"), 1), ".", ",")} | L2: {=_xlfn.NUMBERVALUE(INDEX(_xlfn.TEXTSPLIT(tbl_MTG_Set_Type[[#This Row],[Heavy Printing Months]], "-"), COLUMNS(_xlfn.TEXTSPLIT(tbl_MTG_Set_Type[[#This Row],[Heavy Printing Months]], "-"))), ".", ",")} | M2: 36 | N2: 48 | Q2: Standard Expansion | R2: core, expansion
A3: 2 | B3: Remastered | C3: 3-6 | D3: Usually stay expensive | E3: 6-12 | H3: 18-36+ | I3: 3 | J3: 6 | K3: {=_xlfn.NUMBERVALUE(INDEX(_xlfn.TEXTSPLIT(tbl_MTG_Set_Type[[#This Row],[Heavy Printing Months]], "-"), 1), ".", ",")} | L3: {=_xlfn.NUMBERVALUE(INDEX(_xlfn.TEXTSPLIT(tbl_MTG_Set_Type[[#This Row],[Heavy Printing Months]], "-"), COLUMNS(_xlfn.TEXTSPLIT(tbl_MTG_Set_Type[[#This Row],[Heavy Printing Months]], "-"))), ".", ",")} | M3: 18 | N3: 36 | Q3: Remastered | R3: masters
A4: 3 | B4: Masters | C4: Avoid at retail | D4: Too expensive from launch | E4: 6-12 | H4: 24-60+ | K4: {=_xlfn.NUMBERVALUE(INDEX(_xlfn.TEXTSPLIT(tbl_MTG_Set_Type[[#This Row],[Heavy Printing Months]], "-"), 1), ".", ",")} | L4: {=_xlfn.NUMBERVALUE(INDEX(_xlfn.TEXTSPLIT(tbl_MTG_Set_Type[[#This Row],[Heavy Printing Months]], "-"), COLUMNS(_xlfn.TEXTSPLIT(tbl_MTG_Set_Type[[#This Row],[Heavy Printing Months]], "-"))), ".", ",")} | M4: 24 | N4: 60 | Q4: Masters | R4: masters
A5: 4 | B5: Modern Horizons | C5: 6-12 | D5: If prices dip below launch | E5: 6-12 | H5: 24-48+ | I5: 6 | J5: 12 | K5: {=_xlfn.NUMBERVALUE(INDEX(_xlfn.TEXTSPLIT(tbl_MTG_Set_Type[[#This Row],[Heavy Printing Months]], "-"), 1), ".", ",")} | L5: {=_xlfn.NUMBERVALUE(INDEX(_xlfn.TEXTSPLIT(tbl_MTG_Set_Type[[#This Row],[Heavy Printing Months]], "-"), COLUMNS(_xlfn.TEXTSPLIT(tbl_MTG_Set_Type[[#This Row],[Heavy Printing Months]], "-"))), ".", ",")} | M5: 24 | N5: 48 | Q5: Modern Horizons | R5: draft_innovation (filter by set name)
A6: 5 | B6: Commander | C6: 3-12 | D6: Clearance phase | E6: 12-18 | H6: 24+ | I6: 3 | J6: 12 | K6: {=_xlfn.NUMBERVALUE(INDEX(_xlfn.TEXTSPLIT(tbl_MTG_Set_Type[[#This Row],[Heavy Printing Months]], "-"), 1), ".", ",")} | L6: {=_xlfn.NUMBERVALUE(INDEX(_xlfn.TEXTSPLIT(tbl_MTG_Set_Type[[#This Row],[Heavy Printing Months]], "-"), COLUMNS(_xlfn.TEXTSPLIT(tbl_MTG_Set_Type[[#This Row],[Heavy Printing Months]], "-"))), ".", ",")} | M6: 24 | N6: 24 | Q6: Commander | R6: commander
A7: 6 | B7: Universes Beyond | C7: 3-6 | D7: Post-hype reality check | E7: ? | H7: ? | I7: 3 | J7: 6 | Q7: Universes Beyond | R7: commander, expansion, draft_innovation (filter by set name)
A8: 7 | B8: Micro-sets | C8: Never | D8: Too risky | E8: 3-6 | H8: N/A | K8: 3 | L8: {=_xlfn.NUMBERVALUE(INDEX(_xlfn.TEXTSPLIT(tbl_MTG_Set_Type[[#This Row],[Heavy Printing Months]], "-"), COLUMNS(_xlfn.TEXTSPLIT(tbl_MTG_Set_Type[[#This Row],[Heavy Printing Months]], "-"))), ".", ",")} | Q8: Micro-sets | R8: arsenal, from_the_vault, spellbook, premium_deck
A9: 8 | B9: Core | C9: N/A | D9: Historical | E9: 18-24 | K9: 18 | L9: {=_xlfn.NUMBERVALUE(INDEX(_xlfn.TEXTSPLIT(tbl_MTG_Set_Type[[#This Row],[Heavy Printing Months]], "-"), COLUMNS(_xlfn.TEXTSPLIT(tbl_MTG_Set_Type[[#This Row],[Heavy Printing Months]], "-"))), ".", ",")}

Sheet MTG Set
Y1: Play/Set Booster Box Buy Price | AD1: Play/Set Booster From Box Buy Price
A2: Index | B2: Set Name | C2: Card Count | D2: Released On | E2: Type Name | F2: Language Codes | G2: Row number | H2: Months Since Release | I2: Set Type Record Index | J2: Buy Window Month Start | K2: Buy Window Start | L2: Buy Window Month End | M2: Buy Window End | N2: Buy Now? | O2: Heavy Printing Window Month Start | P2: Heavy Printing Window Start | Q2: Heavy Printing Window Month End | R2: Heavy Printing Window End | S2: Heavy Printing Now? | T2: Sell Window Month Start | U2: Sell Window Start | V2: Sell Window Month End | W2: Sell Window End | X2: Sell Now? | Y2: CardMarket PSBBBP | Z2: Chaos Cards PSBBBP | AA2: Magic Madhouse PSBBBP | AB2: MuddleIt PSBBBP | AC2: PlusMarketing PSBBBP | AD2: CardMarket PSBFBBP | AE2: Chaos Cards PSBFBBP | AF2: Magic Madhouse PSBFBBP | AG2: MuddleIt PSBFBBP | AH2: PlusMarketing PSBFBBP | AI2: Play Booster Box Product Id | AJ2: Play Booster Product Id | AK2: Collector Booster Box Product Id | AL2: Collector Booster Product Id | AM2: Play Booster Box Cost | AN2: Play Booster Box Source Name | AO2: Play Booster Box Size | AP2: Play Booster Cost | AQ2: Play Booster Sell Price CardMarket | AR2: Play Booster Sell Price FB Marketplace | AS2: Play Booster CardMarket Profit | AT2: Play Booster CardMarket Profit Margin (%) | AU2: Collector Booster Box Cost | AV2: Collector Booster Box Source Name | AW2: Collector Booster Box Size | AX2: Collector Booster Cost | AY2: Collector Booster Sell Price CardMarket | AZ2: Collector Booster Sell Price FB Marketplace | BA2: Collector Booster CardMarket Profit | BB2: Collector Booster CardMarket Profit Margin (%) | BC2: EV MTG Stocks Link | BD2: Play Booster Expected Market Value | BE2: Play Boost Sealed Market Value | BF2: Play Booster Expected Value | BG2: Play Singles CardMarket Profit | BH2: Play Singles CardMarket Profit Margin (%) | BI2: Split Play? | BJ2: Collector Booster Expected Market Value | BK2: Collector Boost Sealed Market Value | BL2: Collector Booster Expected Value | BM2: Collector Singles CardMarket Profit | BN2: Collector Singles CardMarket Profit Margin (%) | BO2: Split Collector? | BP2: Buy? | BQ2: Max Profit Option | BR2: Max Profit | BS2: Max Profit Margin Option | BT2: Max Profit Margin (%)
A3: 1 | B3: Marvel Super Heroes MSH | C3: 20 | D3: 46199 | E3: Universes Beyond | F3: en es fr de it pt ja ko ru 汉语 漢語 | G3: 2 | H3: =MONTH(NOW())+12*YEAR(NOW())-MONTH(tbl_MTG_Set[[#This Row],[Released On]])-12*YEAR(tbl_MTG_Set[[#This Row],[Released On]]) | I3: =_xlfn.XLOOKUP(tbl_MTG_Set[[#This Row],[Type Name]], tbl_MTG_Set_Type[Set Type], tbl_MTG_Set_Type[Index], "(Set Type not found)") | J3: =_xlfn.XLOOKUP(tbl_MTG_Set[[#This Row],[Type Name]], tbl_MTG_Set_Type[Set Type], tbl_MTG_Set_Type[Buy Window Month Start], "(Set Type not found)") | K3: =tbl_MTG_Set[[#This Row],[Released On]]+tbl_MTG_Set[[#This Row],[Buy Window Month Start]]*365.25/12 | L3: =_xlfn.XLOOKUP(tbl_MTG_Set[[#This Row],[Type Name]], tbl_MTG_Set_Type[Set Type], tbl_MTG_Set_Type[Buy Window Month End], "(Set Type not found)", 0, 1) | M3: =tbl_MTG_Set[[#This Row],[Released On]]+tbl_MTG_Set[[#This Row],[Buy Window Month End]]*365.25/12 | N3: =AND(NOW()>=tbl_MTG_Set[[#This Row],[Buy Window Start]], NOW()<=tbl_MTG_Set[[#This Row],[Buy Window End]]) | O3: =_xlfn.XLOOKUP(tbl_MTG_Set[[#This Row],[Type Name]], tbl_MTG_Set_Type[Set Type], tbl_MTG_Set_Type[Heavy Printing Window Month Start], "(Set Type not found)", 0, 1) | P3: =tbl_MTG_Set[[#This Row],[Released On]]+tbl_MTG_Set[[#This Row],[Heavy Printing Window Month Start]]*365.25/12 | Q3: =_xlfn.XLOOKUP(tbl_MTG_Set[[#This Row],[Type Name]], tbl_MTG_Set_Type[Set Type], tbl_MTG_Set_Type[Heavy Printing Window Month End], "(Set Type not found)", 0, 1) | R3: =tbl_MTG_Set[[#This Row],[Released On]]+tbl_MTG_Set[[#This Row],[Heavy Printing Window Month End]]*365.25/12 | S3: =AND(NOW()>=tbl_MTG_Set[[#This Row],[Heavy Printing Window Start]], NOW()<=tbl_MTG_Set[[#This Row],[Heavy Printing Window End]]) | T3: =_xlfn.XLOOKUP(tbl_MTG_Set[[#This Row],[Type Name]], tbl_MTG_Set_Type[Set Type], tbl_MTG_Set_Type[Sell Window Month Start], "(Set Type not found)", 0, 1) | U3: =tbl_MTG_Set[[#This Row],[Released On]]+tbl_MTG_Set[[#This Row],[Sell Window Month Start]]*365.25/12 | V3: =_xlfn.XLOOKUP(tbl_MTG_Set[[#This Row],[Type Name]], tbl_MTG_Set_Type[Set Type], tbl_MTG_Set_Type[Sell Window Month End], "(Set Type not found)", 0, 1) | W3: =tbl_MTG_Set[[#This Row],[Released On]]+tbl_MTG_Set[[#This Row],[Sell Window Month End]]*365.25/12 | X3: =AND(NOW()>=tbl_MTG_Set[[#This Row],[Sell Window Start]], NOW()<=tbl_MTG_Set[[#This Row],[Sell Window End]]) | AM3: {=IF(ISERROR(MIN(_xlfn._xlws.FILTER(tbl_Sourcing[Source Unit Cost], (tbl_Sourcing[Product Id]=tbl_MTG_Set[[#This Row],[Play Booster Box Product Id]])*(tbl_Sourcing[Active]=TRUE)))), "", MIN(_xlfn._xlws.FILTER(tbl_Sourcing[Source Unit Cost], (tbl_Sourcing[Product Id]=tbl_MTG_Set[[#This Row],[Play Booster Box Product Id]])*(tbl_Sourcing[Active]=TRUE))))} | AN3: {=IF(ISERROR(INDEX(_xlfn._xlws.FILTER(tbl_Sourcing[Source Name], (tbl_Sourcing[Product Id]=tbl_MTG_Set[[#This Row],[Play Booster Box Product Id]])*(tbl_Sourcing[Active]=TRUE)*(tbl_Sourcing[Source Unit Cost]=tbl_MTG_Set[[#This Row],[Play Booster Box Cost]])), 1)), "", INDEX(_xlfn._xlws.FILTER(tbl_Sourcing[Source Name], (tbl_Sourcing[Product Id]=tbl_MTG_Set[[#This Row],[Play Booster Box Product Id]])*(tbl_Sourcing[Active]=TRUE)*(tbl_Sourcing[Source Unit Cost]=tbl_MTG_Set[[#This Row],[Play Booster Box Cost]])), 1))} | AO3: =_xlfn.XLOOKUP(tbl_MTG_Set[[#This Row],[Play Booster Box Product Id]], tbl_Product[Product Id], tbl_Product[Pack Size]) | AP3: =(tbl_MTG_Set[[#This Row],[Play Booster Box Cost]]+v_Item_Shipping_Cost_In)/tbl_MTG_Set[[#This Row],[Play Booster Box Size]] | AQ3: {=IF(ISERROR(MIN(_xlfn._xlws.FILTER(tbl_Sourcing[Source Unit Cost], (tbl_Sourcing[Product Id]=tbl_MTG_Set[[#This Row],[Play Booster Product Id]])*(tbl_Sourcing[Active]=TRUE)*(tbl_Sourcing[Source Name]="Card Market")))), "", MIN(_xlfn._xlws.FILTER(tbl_Sourcing[Source Unit Cost], (tbl_Sourcing[Product Id]=tbl_MTG_Set[[#This Row],[Play Booster Product Id]])*(tbl_Sourcing[Active]=TRUE)*(tbl_Sourcing[Source Name]="Card Market"))))} | AT3: =tbl_MTG_Set[[#This Row],[Play Booster CardMarket Profit]]/tbl_MTG_Set[[#This Row],[Play Booster Cost]] | AU3: =_xlfn.XLOOKUP(tbl_MTG_Set[[#This Row],[Collector Booster Box Product Id]], tbl_Product[Product Id], tbl_Product[Min Cost]) | AV3: =_xlfn.XLOOKUP(tbl_MTG_Set[[#This Row],[Collector Booster Box Product Id]], tbl_Product[Product Id], tbl_Product[Best Source]) | AW3: =_xlfn.XLOOKUP(tbl_MTG_Set[[#This Row],[Collector Booster Box Product Id]], tbl_Product[Product Id], tbl_Product[Pack Size]) | AX3: =(tbl_MTG_Set[[#This Row],[Collector Booster Box Cost]] + v_Item_Shipping_Cost_In) / tbl_MTG_Set[[#This Row],[Collector Booster Box Size]] | AY3: {=IF(ISERROR(_xlfn._xlws.FILTER(tbl_Sourcing[Source Unit Cost], (tbl_Sourcing[Product Id]=tbl_MTG_Set[[#This Row],[Collector Booster Product Id]])*(tbl_Sourcing[Active]=TRUE)*(tbl_Sourcing[Source Name]="Card Market"))), "", _xlfn._xlws.FILTER(tbl_Sourcing[Source Unit Cost], (tbl_Sourcing[Product Id]=tbl_MTG_Set[[#This Row],[Collector Booster Product Id]])*(tbl_Sourcing[Active]=TRUE)*(tbl_Sourcing[Source Name]="Card Market")))} | BA3: =IF(ISERROR(tbl_MTG_Set[[#This Row],[Collector Booster Sell Price CardMarket]]-tbl_MTG_Set[[#This Row],[Collector Booster Cost]]-v_Item_Shipping_Cost_Out), -999, tbl_MTG_Set[[#This Row],[Collector Booster Sell Price CardMarket]]-tbl_MTG_Set[[#This Row],[Collector Booster Cost]]-v_Item_Shipping_Cost_Out) | BB3: =tbl_MTG_Set[[#This Row],[Collector Booster CardMarket Profit]]/tbl_MTG_Set[[#This Row],[Collector Booster Cost]] | BF3: =tbl_MTG_Set[[#This Row],[Play Booster Sell Price CardMarket]]*tbl_MTG_Set[[#This Row],[Play Booster Expected Market Value]]/tbl_MTG_Set[[#This Row],[Play Boost Sealed Market Value]] | BG3: =IF(ISERROR(tbl_MTG_Set[[#This Row],[Play Booster Expected Value]]-tbl_MTG_Set[[#This Row],[Play Booster Cost]]-v_Item_Shipping_Cost_Out), -999, tbl_MTG_Set[[#This Row],[Play Booster Expected Value]]-tbl_MTG_Set[[#This Row],[Play Booster Cost]]-v_Item_Shipping_Cost_Out) | BH3: =tbl_MTG_Set[[#This Row],[Play Singles CardMarket Profit]]/tbl_MTG_Set[[#This Row],[Play Booster Cost]] | BI3: =tbl_MTG_Set[[#This Row],[Play Singles CardMarket Profit]]>0 | BL3: =tbl_MTG_Set[[#This Row],[Collector Booster Sell Price CardMarket]]*tbl_MTG_Set[[#This Row],[Collector Booster Expected Market Value]]/tbl_MTG_Set[[#This Row],[Collector Boost Sealed Market Value]] | BM3: =IF(ISERROR(tbl_MTG_Set[[#This Row],[Collector Booster Expected Value]] - tbl_MTG_Set[[#This Row],[Collector Booster Cost]] - v_Item_Shipping_Cost_Out), -999, tbl_MTG_Set[[#This Row],[Collector Booster Expected Value]] - tbl_MTG_Set[[#This Row],[Collector Booster Cost]] - v_Item_Shipping_Cost_Out) | BN3: =tbl_MTG_Set[[#This Row],[Collector Singles CardMarket Profit]]/tbl_MTG_Set[[#This Row],[Collector Booster Cost]] | BO3: =tbl_MTG_Set[[#This Row],[Collector Singles CardMarket Profit]]>0 | BP3: =OR(tbl_MTG_Set[[#This Row],[Split Collector?]], tbl_MTG_Set[[#This Row],[Split Play?]], tbl_MTG_Set[[#This Row],[Collector Booster CardMarket Profit]]>0, tbl_MTG_Set[[#This Row],[Play Booster CardMarket Profit]]>0) | BQ3: =IF(tbl_MTG_Set[[#This Row],[Play Booster CardMarket Profit]]=tbl_MTG_Set[[#This Row],[Max Profit]], "Play Boosters", IF(tbl_MTG_Set[[#This Row],[Collector Booster CardMarket Profit]]=tbl_MTG_Set[[#This Row],[Max Profit]], "Collector Boosters", IF(tbl_MTG_Set[[#This Row],[Play Singles CardMarket Profit]]=tbl_MTG_Set[[#This Row],[Max Profit]], "Play Singles", "Collector Singles"))) | BR3: =MAX(IFERROR(tbl_MTG_Set[[#This Row],[Play Booster CardMarket Profit]], -999), IFERROR(tbl_MTG_Set[[#This Row],[Collector Booster CardMarket Profit]], -999), IFERROR(tbl_MTG_Set[[#This Row],[Play Singles CardMarket Profit]], -999), IFERROR(tbl_MTG_Set[[#This Row],[Collector Singles CardMarket Profit]], -999)) | BS3: =IF(tbl_MTG_Set[[#This Row],[Play Booster CardMarket Profit Margin (%)]]=tbl_MTG_Set[[#This Row],[Max Profit Margin (%)]], "Play Boosters", IF(tbl_MTG_Set[[#This Row],[Collector Booster CardMarket Profit Margin (%)]]=tbl_MTG_Set[[#This Row],[Max Profit Margin (%)]], "Collector Boosters", IF(tbl_MTG_Set[[#This Row],[Play Singles CardMarket Profit Margin (%)]]=tbl_MTG_Set[[#This Row],[Max Profit Margin (%)]], "Play Singles", "Collector Singles"))) | BT3: =MAX(IFERROR(tbl_MTG_Set[[#This Row],[Play Booster CardMarket Profit Margin (%)]], 0), IFERROR(tbl_MTG_Set[[#This Row],[Collector Booster CardMarket Profit Margin (%)]], 0), IFERROR(tbl_MTG_Set[[#This Row],[Play Singles CardMarket Profit Margin (%)]], 0), IFERROR(tbl_MTG_Set[[#This Row],[Collector Singles CardMarket Profit Margin (%)]], 0))
A4: 2 | B4: Marvel Super Heroes Commander MSC | C4: 4 | D4: 46199 | E4: Commander | F4: en es fr de it pt ja ko ru 汉语 漢語 | G4: 3 | H4: =MONTH(NOW())+12*YEAR(NOW())-MONTH(tbl_MTG_Set[[#This Row],[Released On]])-12*YEAR(tbl_MTG_Set[[#This Row],[Released On]]) | I4: =_xlfn.XLOOKUP(tbl_MTG_Set[[#This Row],[Type Name]], tbl_MTG_Set_Type[Set Type], tbl_MTG_Set_Type[Index], "(Set Type not found)") | J4: =_xlfn.XLOOKUP(tbl_MTG_Set[[#This Row],[Type Name]], tbl_MTG_Set_Type[Set Type], tbl_MTG_Set_Type[Buy Window Month Start], "(Set Type not found)") | K4: =tbl_MTG_Set[[#This Row],[Released On]]+tbl_MTG_Set[[#This Row],[Buy Window Month Start]]*365.25/12 | L4: =_xlfn.XLOOKUP(tbl_MTG_Set[[#This Row],[Type Name]], tbl_MTG_Set_Type[Set Type], tbl_MTG_Set_Type[Buy Window Month End], "(Set Type not found)", 0, 1) | M4: =tbl_MTG_Set[[#This Row],[Released On]]+tbl_MTG_Set[[#This Row],[Buy Window Month End]]*365.25/12 | N4: =AND(NOW()>=tbl_MTG_Set[[#This Row],[Buy Window Start]], NOW()<=tbl_MTG_Set[[#This Row],[Buy Window End]]) | O4: =_xlfn.XLOOKUP(tbl_MTG_Set[[#This Row],[Type Name]], tbl_MTG_Set_Type[Set Type], tbl_MTG_Set_Type[Heavy Printing Window Month Start], "(Set Type not found)", 0, 1) | P4: =tbl_MTG_Set[[#This Row],[Released On]]+tbl_MTG_Set[[#This Row],[Heavy Printing Window Month Start]]*365.25/12 | Q4: =_xlfn.XLOOKUP(tbl_MTG_Set[[#This Row],[Type Name]], tbl_MTG_Set_Type[Set Type], tbl_MTG_Set_Type[Heavy Printing Window Month End], "(Set Type not found)", 0, 1) | R4: =tbl_MTG_Set[[#This Row],[Released On]]+tbl_MTG_Set[[#This Row],[Heavy Printing Window Month End]]*365.25/12 | S4: =AND(NOW()>=tbl_MTG_Set[[#This Row],[Heavy Printing Window Start]], NOW()<=tbl_MTG_Set[[#This Row],[Heavy Printing Window End]]) | T4: =_xlfn.XLOOKUP(tbl_MTG_Set[[#This Row],[Type Name]], tbl_MTG_Set_Type[Set Type], tbl_MTG_Set_Type[Sell Window Month Start], "(Set Type not found)", 0, 1) | U4: =tbl_MTG_Set[[#This Row],[Released On]]+tbl_MTG_Set[[#This Row],[Sell Window Month Start]]*365.25/12 | V4: =_xlfn.XLOOKUP(tbl_MTG_Set[[#This Row],[Type Name]], tbl_MTG_Set_Type[Set Type], tbl_MTG_Set_Type[Sell Window Month End], "(Set Type not found)", 0, 1) | W4: =tbl_MTG_Set[[#This Row],[Released On]]+tbl_MTG_Set[[#This Row],[Sell Window Month End]]*365.25/12 | X4: =AND(NOW()>=tbl_MTG_Set[[#This Row],[Sell Window Start]], NOW()<=tbl_MTG_Set[[#This Row],[Sell Window End]]) | AM4: {=IF(ISERROR(MIN(_xlfn._xlws.FILTER(tbl_Sourcing[Source Unit Cost], (tbl_Sourcing[Product Id]=tbl_MTG_Set[[#This Row],[Play Booster Box Product Id]])*(tbl_Sourcing[Active]=TRUE)))), "", MIN(_xlfn._xlws.FILTER(tbl_Sourcing[Source Unit Cost], (tbl_Sourcing[Product Id]=tbl_MTG_Set[[#This Row],[Play Booster Box Product Id]])*(tbl_Sourcing[Active]=TRUE))))} | AN4: {=IF(ISERROR(INDEX(_xlfn._xlws.FILTER(tbl_Sourcing[Source Name], (tbl_Sourcing[Product Id]=tbl_MTG_Set[[#This Row],[Play Booster Box Product Id]])*(tbl_Sourcing[Active]=TRUE)*(tbl_Sourcing[Source Unit Cost]=tbl_MTG_Set[[#This Row],[Play Booster Box Cost]])), 1)), "", INDEX(_xlfn._xlws.FILTER(tbl_Sourcing[Source Name], (tbl_Sourcing[Product Id]=tbl_MTG_Set[[#This Row],[Play Booster Box Product Id]])*(tbl_Sourcing[Active]=TRUE)*(tbl_Sourcing[Source Unit Cost]=tbl_MTG_Set[[#This Row],[Play Booster Box Cost]])), 1))} | AO4: =_xlfn.XLOOKUP(tbl_MTG_Set[[#This Row],[Play Booster Box Product Id]], tbl_Product[Product Id], tbl_Product[Pack Size]) | AP4: =(tbl_MTG_Set[[#This Row],[Play Booster Box Cost]]+v_Item_Shipping_Cost_In)/tbl_MTG_Set[[#This Row],[Play Booster Box Size]] | AQ4: {=IF(ISERROR(MIN(_xlfn._xlws.FILTER(tbl_Sourcing[Source Unit Cost], (tbl_Sourcing[Product Id]=tbl_MTG_Set[[#This Row],[Play Booster Product Id]])*(tbl_Sourcing[Active]=TRUE)*(tbl_Sourcing[Source Name]="Card Market")))), "", MIN(_xlfn._xlws.FILTER(tbl_Sourcing[Source Unit Cost], (tbl_Sourcing[Product Id]=tbl_MTG_Set[[#This Row],[Play Booster Product Id]])*(tbl_Sourcing[Active]=TRUE)*(tbl_Sourcing[Source Name]="Card Market"))))} | AT4: =tbl_MTG_Set[[#This Row],[Play Booster CardMarket Profit]]/tbl_MTG_Set[[#This Row],[Play Booster Cost]] | AU4: =_xlfn.XLOOKUP(tbl_MTG_Set[[#This Row],[Collector Booster Box Product Id]], tbl_Product[Product Id], tbl_Product[Min Cost]) | AV4: =_xlfn.XLOOKUP(tbl_MTG_Set[[#This Row],[Collector Booster Box Product Id]], tbl_Product[Product Id], tbl_Product[Best Source]) | AW4: =_xlfn.XLOOKUP(tbl_MTG_Set[[#This Row],[Collector Booster Box Product Id]], tbl_Product[Product Id], tbl_Product[Pack Size]) | AX4: =(tbl_MTG_Set[[#This Row],[Collector Booster Box Cost]] + v_Item_Shipping_Cost_In) / tbl_MTG_Set[[#This Row],[Collector Booster Box Size]] | AY4: {=IF(ISERROR(_xlfn._xlws.FILTER(tbl_Sourcing[Source Unit Cost], (tbl_Sourcing[Product Id]=tbl_MTG_Set[[#This Row],[Collector Booster Product Id]])*(tbl_Sourcing[Active]=TRUE)*(tbl_Sourcing[Source Name]="Card Market"))), "", _xlfn._xlws.FILTER(tbl_Sourcing[Source Unit Cost], (tbl_Sourcing[Product Id]=tbl_MTG_Set[[#This Row],[Collector Booster Product Id]])*(tbl_Sourcing[Active]=TRUE)*(tbl_Sourcing[Source Name]="Card Market")))} | BA4: =IF(ISERROR(tbl_MTG_Set[[#This Row],[Collector Booster Sell Price CardMarket]]-tbl_MTG_Set[[#This Row],[Collector Booster Cost]]-v_Item_Shipping_Cost_Out), -999, tbl_MTG_Set[[#This Row],[Collector Booster Sell Price CardMarket]]-tbl_MTG_Set[[#This Row],[Collector Booster Cost]]-v_Item_Shipping_Cost_Out) | BB4: =tbl_MTG_Set[[#This Row],[Collector Booster CardMarket Profit]]/tbl_MTG_Set[[#This Row],[Collector Booster Cost]] | BF4: =tbl_MTG_Set[[#This Row],[Play Booster Sell Price CardMarket]]*tbl_MTG_Set[[#This Row],[Play Booster Expected Market Value]]/tbl_MTG_Set[[#This Row],[Play Boost Sealed Market Value]] | BG4: =IF(ISERROR(tbl_MTG_Set[[#This Row],[Play Booster Expected Value]]-tbl_MTG_Set[[#This Row],[Play Booster Cost]]-v_Item_Shipping_Cost_Out), -999, tbl_MTG_Set[[#This Row],[Play Booster Expected Value]]-tbl_MTG_Set[[#This Row],[Play Booster Cost]]-v_Item_Shipping_Cost_Out) | BH4: =tbl_MTG_Set[[#This Row],[Play Singles CardMarket Profit]]/tbl_MTG_Set[[#This Row],[Play Booster Cost]] | BI4: =tbl_MTG_Set[[#This Row],[Play Singles CardMarket Profit]]>0 | BL4: =tbl_MTG_Set[[#This Row],[Collector Booster Sell Price CardMarket]]*tbl_MTG_Set[[#This Row],[Collector Booster Expected Market Value]]/tbl_MTG_Set[[#This Row],[Collector Boost Sealed Market Value]] | BM4: =IF(ISERROR(tbl_MTG_Set[[#This Row],[Collector Booster Expected Value]] - tbl_MTG_Set[[#This Row],[Collector Booster Cost]] - v_Item_Shipping_Cost_Out), -999, tbl_MTG_Set[[#This Row],[Collector Booster Expected Value]] - tbl_MTG_Set[[#This Row],[Collector Booster Cost]] - v_Item_Shipping_Cost_Out) | BN4: =tbl_MTG_Set[[#This Row],[Collector Singles CardMarket Profit]]/tbl_MTG_Set[[#This Row],[Collector Booster Cost]] | BO4: =tbl_MTG_Set[[#This Row],[Collector Singles CardMarket Profit]]>0 | BP4: =OR(tbl_MTG_Set[[#This Row],[Split Collector?]], tbl_MTG_Set[[#This Row],[Split Play?]], tbl_MTG_Set[[#This Row],[Collector Booster CardMarket Profit]]>0, tbl_MTG_Set[[#This Row],[Play Booster CardMarket Profit]]>0) | BQ4: =IF(tbl_MTG_Set[[#This Row],[Play Booster CardMarket Profit]]=tbl_MTG_Set[[#This Row],[Max Profit]], "Play Boosters", IF(tbl_MTG_Set[[#This Row],[Collector Booster CardMarket Profit]]=tbl_MTG_Set[[#This Row],[Max Profit]], "Collector Boosters", IF(tbl_MTG_Set[[#This Row],[Play Singles CardMarket Profit]]=tbl_MTG_Set[[#This Row],[Max Profit]], "Play Singles", "Collector Singles"))) | BR4: =MAX(IFERROR(tbl_MTG_Set[[#This Row],[Play Booster CardMarket Profit]], -999), IFERROR(tbl_MTG_Set[[#This Row],[Collector Booster CardMarket Profit]], -999), IFERROR(tbl_MTG_Set[[#This Row],[Play Singles CardMarket Profit]], -999), IFERROR(tbl_MTG_Set[[#This Row],[Collector Singles CardMarket Profit]], -999)) | BS4: =IF(tbl_MTG_Set[[#This Row],[Play Booster CardMarket Profit Margin (%)]]=tbl_MTG_Set[[#This Row],[Max Profit Margin (%)]], "Play Boosters", IF(tbl_MTG_Set[[#This Row],[Collector Booster CardMarket Profit Margin (%)]]=tbl_MTG_Set[[#This Row],[Max Profit Margin (%)]], "Collector Boosters", IF(tbl_MTG_Set[[#This Row],[Play Singles CardMarket Profit Margin (%)]]=tbl_MTG_Set[[#This Row],[Max Profit Margin (%)]], "Play Singles", "Collector Singles"))) | BT4: =MAX(IFERROR(tbl_MTG_Set[[#This Row],[Play Booster CardMarket Profit Margin (%)]], 0), IFERROR(tbl_MTG_Set[[#This Row],[Collector Booster CardMarket Profit Margin (%)]], 0), IFERROR(tbl_MTG_Set[[#This Row],[Play Singles CardMarket Profit Margin (%)]], 0), IFERROR(tbl_MTG_Set[[#This Row],[Collector Singles CardMarket Profit Margin (%)]], 0))
A5: 3 | B5: Teenage Mutant Ninja Turtles TMT | C5: 20 | D5: 46087 | E5: Universes Beyond | F5: en es fr de it pt ja ko ru 汉语 漢語 | G5: 4 | H5: =MONTH(NOW())+12*YEAR(NOW())-MONTH(tbl_MTG_Set[[#This Row],[Released On]])-12*YEAR(tbl_MTG_Set[[#This Row],[Released On]]) | I5: =_xlfn.XLOOKUP(tbl_MTG_Set[[#This Row],[Type Name]], tbl_MTG_Set_Type[Set Type], tbl_MTG_Set_Type[Index], "(Set Type not found)") | J5: =_xlfn.XLOOKUP(tbl_MTG_Set[[#This Row],[Type Name]], tbl_MTG_Set_Type[Set Type], tbl_MTG_Set_Type[Buy Window Month Start], "(Set Type not found)") | K5: =tbl_MTG_Set[[#This Row],[Released On]]+tbl_MTG_Set[[#This Row],[Buy Window Month Start]]*365.25/12 | L5: =_xlfn.XLOOKUP(tbl_MTG_Set[[#This Row],[Type Name]], tbl_MTG_Set_Type[Set Type], tbl_MTG_Set_Type[Buy Window Month End], "(Set Type not found)", 0, 1) | M5: =tbl_MTG_Set[[#This Row],[Released On]]+tbl_MTG_Set[[#This Row],[Buy Window Month End]]*365.25/12 | N5: =AND(NOW()>=tbl_MTG_Set[[#This Row],[Buy Window Start]], NOW()<=tbl_MTG_Set[[#This Row],[Buy Window End]]) | O5: =_xlfn.XLOOKUP(tbl_MTG_Set[[#This Row],[Type Name]], tbl_MTG_Set_Type[Set Type], tbl_MTG_Set_Type[Heavy Printing Window Month Start], "(Set Type not found)", 0, 1) | P5: =tbl_MTG_Set[[#This Row],[Released On]]+tbl_MTG_Set[[#This Row],[Heavy Printing Window Month Start]]*365.25/12 | Q5: =_xlfn.XLOOKUP(tbl_MTG_Set[[#This Row],[Type Name]], tbl_MTG_Set_Type[Set Type], tbl_MTG_Set_Type[Heavy Printing Window Month End], "(Set Type not found)", 0, 1) | R5: =tbl_MTG_Set[[#This Row],[Released On]]+tbl_MTG_Set[[#This Row],[Heavy Printing Window Month End]]*365.25/12 | S5: =AND(NOW()>=tbl_MTG_Set[[#This Row],[Heavy Printing Window Start]], NOW()<=tbl_MTG_Set[[#This Row],[Heavy Printing Window End]]) | T5: =_xlfn.XLOOKUP(tbl_MTG_Set[[#This Row],[Type Name]], tbl_MTG_Set_Type[Set Type], tbl_MTG_Set_Type[Sell Window Month Start], "(Set Type not found)", 0, 1) | U5: =tbl_MTG_Set[[#This Row],[Released On]]+tbl_MTG_Set[[#This Row],[Sell Window Month Start]]*365.25/12 | V5: =_xlfn.XLOOKUP(tbl_MTG_Set[[#This Row],[Type Name]], tbl_MTG_Set_Type[Set Type], tbl_MTG_Set_Type[Sell Window Month End], "(Set Type not found)", 0, 1) | W5: =tbl_MTG_Set[[#This Row],[Released On]]+tbl_MTG_Set[[#This Row],[Sell Window Month End]]*365.25/12 | X5: =AND(NOW()>=tbl_MTG_Set[[#This Row],[Sell Window Start]], NOW()<=tbl_MTG_Set[[#This Row],[Sell Window End]]) | AB5: 123 | AM5: {=IF(ISERROR(MIN(_xlfn._xlws.FILTER(tbl_Sourcing[Source Unit Cost], (tbl_Sourcing[Product Id]=tbl_MTG_Set[[#This Row],[Play Booster Box Product Id]])*(tbl_Sourcing[Active]=TRUE)))), "", MIN(_xlfn._xlws.FILTER(tbl_Sourcing[Source Unit Cost], (tbl_Sourcing[Product Id]=tbl_MTG_Set[[#This Row],[Play Booster Box Product Id]])*(tbl_Sourcing[Active]=TRUE))))} | AN5: {=IF(ISERROR(INDEX(_xlfn._xlws.FILTER(tbl_Sourcing[Source Name], (tbl_Sourcing[Product Id]=tbl_MTG_Set[[#This Row],[Play Booster Box Product Id]])*(tbl_Sourcing[Active]=TRUE)*(tbl_Sourcing[Source Unit Cost]=tbl_MTG_Set[[#This Row],[Play Booster Box Cost]])), 1)), "", INDEX(_xlfn._xlws.FILTER(tbl_Sourcing[Source Name], (tbl_Sourcing[Product Id]=tbl_MTG_Set[[#This Row],[Play Booster Box Product Id]])*(tbl_Sourcing[Active]=TRUE)*(tbl_Sourcing[Source Unit Cost]=tbl_MTG_Set[[#This Row],[Play Booster Box Cost]])), 1))} | AO5: =_xlfn.XLOOKUP(tbl_MTG_Set[[#This Row],[Play Booster Box Product Id]], tbl_Product[Product Id], tbl_Product[Pack Size]) | AP5: =(tbl_MTG_Set[[#This Row],[Play Booster Box Cost]]+v_Item_Shipping_Cost_In)/tbl_MTG_Set[[#This Row],[Play Booster Box Size]] | AQ5: {=IF(ISERROR(MIN(_xlfn._xlws.FILTER(tbl_Sourcing[Source Unit Cost], (tbl_Sourcing[Product Id]=tbl_MTG_Set[[#This Row],[Play Booster Product Id]])*(tbl_Sourcing[Active]=TRUE)*(tbl_Sourcing[Source Name]="Card Market")))), "", MIN(_xlfn._xlws.FILTER(tbl_Sourcing[Source Unit Cost], (tbl_Sourcing[Product Id]=tbl_MTG_Set[[#This Row],[Play Booster Product Id]])*(tbl_Sourcing[Active]=TRUE)*(tbl_Sourcing[Source Name]="Card Market"))))} | AT5: =tbl_MTG_Set[[#This Row],[Play Booster CardMarket Profit]]/tbl_MTG_Set[[#This Row],[Play Booster Cost]] | AU5: =_xlfn.XLOOKUP(tbl_MTG_Set[[#This Row],[Collector Booster Box Product Id]], tbl_Product[Product Id], tbl_Product[Min Cost]) | AV5: =_xlfn.XLOOKUP(tbl_MTG_Set[[#This Row],[Collector Booster Box Product Id]], tbl_Product[Product Id], tbl_Product[Best Source]) | AW5: =_xlfn.XLOOKUP(tbl_MTG_Set[[#This Row],[Collector Booster Box Product Id]], tbl_Product[Product Id], tbl_Product[Pack Size]) | AX5: =(tbl_MTG_Set[[#This Row],[Collector Booster Box Cost]] + v_Item_Shipping_Cost_In) / tbl_MTG_Set[[#This Row],[Collector Booster Box Size]] | AY5: {=IF(ISERROR(_xlfn._xlws.FILTER(tbl_Sourcing[Source Unit Cost], (tbl_Sourcing[Product Id]=tbl_MTG_Set[[#This Row],[Collector Booster Product Id]])*(tbl_Sourcing[Active]=TRUE)*(tbl_Sourcing[Source Name]="Card Market"))), "", _xlfn._xlws.FILTER(tbl_Sourcing[Source Unit Cost], (tbl_Sourcing[Product Id]=tbl_MTG_Set[[#This Row],[Collector Booster Product Id]])*(tbl_Sourcing[Active]=TRUE)*(tbl_Sourcing[Source Name]="Card Market")))} | BA5: =IF(ISERROR(tbl_MTG_Set[[#This Row],[Collector Booster Sell Price CardMarket]]-tbl_MTG_Set[[#This Row],[Collector Booster Cost]]-v_Item_Shipping_Cost_Out), -999, tbl_MTG_Set[[#This Row],[Collector Booster Sell Price CardMarket]]-tbl_MTG_Set[[#This Row],[Collector Booster Cost]]-v_Item_Shipping_Cost_Out) | BB5: =tbl_MTG_Set[[#This Row],[Collector Booster CardMarket Profit]]/tbl_MTG_Set[[#This Row],[Collector Booster Cost]] | BF5: =tbl_MTG_Set[[#This Row],[Play Booster Sell Price CardMarket]]*tbl_MTG_Set[[#This Row],[Play Booster Expected Market Value]]/tbl_MTG_Set[[#This Row],[Play Boost Sealed Market Value]] | BG5: =IF(ISERROR(tbl_MTG_Set[[#This Row],[Play Booster Expected Value]]-tbl_MTG_Set[[#This Row],[Play Booster Cost]]-v_Item_Shipping_Cost_Out), -999, tbl_MTG_Set[[#This Row],[Play Booster Expected Value]]-tbl_MTG_Set[[#This Row],[Play Booster Cost]]-v_Item_Shipping_Cost_Out) | BH5: =tbl_MTG_Set[[#This Row],[Play Singles CardMarket Profit]]/tbl_MTG_Set[[#This Row],[Play Booster Cost]] | BI5: =tbl_MTG_Set[[#This Row],[Play Singles CardMarket Profit]]>0 | BL5: =tbl_MTG_Set[[#This Row],[Collector Booster Sell Price CardMarket]]*tbl_MTG_Set[[#This Row],[Collector Booster Expected Market Value]]/tbl_MTG_Set[[#This Row],[Collector Boost Sealed Market Value]] | BM5: =IF(ISERROR(tbl_MTG_Set[[#This Row],[Collector Booster Expected Value]] - tbl_MTG_Set[[#This Row],[Collector Booster Cost]] - v_Item_Shipping_Cost_Out), -999, tbl_MTG_Set[[#This Row],[Collector Booster Expected Value]] - tbl_MTG_Set[[#This Row],[Collector Booster Cost]] - v_Item_Shipping_Cost_Out) | BN5: =tbl_MTG_Set[[#This Row],[Collector Singles CardMarket Profit]]/tbl_MTG_Set[[#This Row],[Collector Booster Cost]] | BO5: =tbl_MTG_Set[[#This Row],[Collector Singles CardMarket Profit]]>0 | BP5: =OR(tbl_MTG_Set[[#This Row],[Split Collector?]], tbl_MTG_Set[[#This Row],[Split Play?]], tbl_MTG_Set[[#This Row],[Collector Booster CardMarket Profit]]>0, tbl_MTG_Set[[#This Row],[Play Booster CardMarket Profit]]>0) | BQ5: =IF(tbl_MTG_Set[[#This Row],[Play Booster CardMarket Profit]]=tbl_MTG_Set[[#This Row],[Max Profit]], "Play Boosters", IF(tbl_MTG_Set[[#This Row],[Collector Booster CardMarket Profit]]=tbl_MTG_Set[[#This Row],[Max Profit]], "Collector Boosters", IF(tbl_MTG_Set[[#This Row],[Play Singles CardMarket Profit]]=tbl_MTG_Set[[#This Row],[Max Profit]], "Play Singles", "Collector Singles"))) | BR5: =MAX(IFERROR(tbl_MTG_Set[[#This Row],[Play Booster CardMarket Profit]], -999), IFERROR(tbl_MTG_Set[[#This Row],[Collector Booster CardMarket Profit]], -999), IFERROR(tbl_MTG_Set[[#This Row],[Play Singles CardMarket Profit]], -999), IFERROR(tbl_MTG_Set[[#This Row],[Collector Singles CardMarket Profit]], -999)) | BS5: =IF(tbl_MTG_Set[[#This Row],[Play Booster CardMarket Profit Margin (%)]]=tbl_MTG_Set[[#This Row],[Max Profit Margin (%)]], "Play Boosters", IF(tbl_MTG_Set[[#This Row],[Collector Booster CardMarket Profit Margin (%)]]=tbl_MTG_Set[[#This Row],[Max Profit Margin (%)]], "Collector Boosters", IF(tbl_MTG_Set[[#This Row],[Play Singles CardMarket Profit Margin (%)]]=tbl_MTG_Set[[#This Row],[Max Profit Margin (%)]], "Play Singles", "Collector Singles"))) | BT5: =MAX(IFERROR(tbl_MTG_Set[[#This Row],[Play Booster CardMarket Profit Margin (%)]], 0), IFERROR(tbl_MTG_Set[[#This Row],[Collector Booster CardMarket Profit Margin (%)]], 0), IFERROR(tbl_MTG_Set[[#This Row],[Play Singles CardMarket Profit Margin (%)]], 0), IFERROR(tbl_MTG_Set[[#This Row],[Collector Singles CardMarket Profit Margin (%)]], 0))
A6: 4 | B6: Teenage Mutant Ninja Turtles Source Material PZA | C6: 1 | D6: 46087 | E6: Universes Beyond | F6: en es fr de it pt ja ko ru 汉语 漢語 | G6: 5 | H6: =MONTH(NOW())+12*YEAR(NOW())-MONTH(tbl_MTG_Set[[#This Row],[Released On]])-12*YEAR(tbl_MTG_Set[[#This Row],[Released On]]) | I6: =_xlfn.XLOOKUP(tbl_MTG_Set[[#This Row],[Type Name]], tbl_MTG_Set_Type[Set Type], tbl_MTG_Set_Type[Index], "(Set Type not found)") | J6: =_xlfn.XLOOKUP(tbl_MTG_Set[[#This Row],[Type Name]], tbl_MTG_Set_Type[Set Type], tbl_MTG_Set_Type[Buy Window Month Start], "(Set Type not found)") | K6: =tbl_MTG_Set[[#This Row],[Released On]]+tbl_MTG_Set[[#This Row],[Buy Window Month Start]]*365.25/12 | L6: =_xlfn.XLOOKUP(tbl_MTG_Set[[#This Row],[Type Name]], tbl_MTG_Set_Type[Set Type], tbl_MTG_Set_Type[Buy Window Month End], "(Set Type not found)", 0, 1) | M6: =tbl_MTG_Set[[#This Row],[Released On]]+tbl_MTG_Set[[#This Row],[Buy Window Month End]]*365.25/12 | N6: =AND(NOW()>=tbl_MTG_Set[[#This Row],[Buy Window Start]], NOW()<=tbl_MTG_Set[[#This Row],[Buy Window End]]) | O6: =_xlfn.XLOOKUP(tbl_MTG_Set[[#This Row],[Type Name]], tbl_MTG_Set_Type[Set Type], tbl_MTG_Set_Type[Heavy Printing Window Month Start], "(Set Type not found)", 0, 1) | P6: =tbl_MTG_Set[[#This Row],[Released On]]+tbl_MTG_Set[[#This Row],[Heavy Printing Window Month Start]]*365.25/12 | Q6: =_xlfn.XLOOKUP(tbl_MTG_Set[[#This Row],[Type Name]], tbl_MTG_Set_Type[Set Type], tbl_MTG_Set_Type[Heavy Printing Window Month End], "(Set Type not found)", 0, 1) | R6: =tbl_MTG_Set[[#This Row],[Released On]]+tbl_MTG_Set[[#This Row],[Heavy Printing Window Month End]]*365.25/12 | S6: =AND(NOW()>=tbl_MTG_Set[[#This Row],[Heavy Printing Window Start]], NOW()<=tbl_MTG_Set[[#This Row],[Heavy Printing Window End]]) | T6: =_xlfn.XLOOKUP(tbl_MTG_Set[[#This Row],[Type Name]], tbl_MTG_Set_Type[Set Type], tbl_MTG_Set_Type[Sell Window Month Start], "(Set Type not found)", 0, 1) | U6: =tbl_MTG_Set[[#This Row],[Released On]]+tbl_MTG_Set[[#This Row],[Sell Window Month Start]]*365.25/12 | V6: =_xlfn.XLOOKUP(tbl_MTG_Set[[#This Row],[Type Name]], tbl_MTG_Set_Type[Set Type], tbl_MTG_Set_Type[Sell Window Month End], "(Set Type not found)", 0, 1) | W6: =tbl_MTG_Set[[#This Row],[Released On]]+tbl_MTG_Set[[#This Row],[Sell Window Month End]]*365.25/12 | X6: =AND(NOW()>=tbl_MTG_Set[[#This Row],[Sell Window Start]], NOW()<=tbl_MTG_Set[[#This Row],[Sell Window End]]) | AM6: {=IF(ISERROR(MIN(_xlfn._xlws.FILTER(tbl_Sourcing[Source Unit Cost], (tbl_Sourcing[Product Id]=tbl_MTG_Set[[#This Row],[Play Booster Box Product Id]])*(tbl_Sourcing[Active]=TRUE)))), "", MIN(_xlfn._xlws.FILTER(tbl_Sourcing[Source Unit Cost], (tbl_Sourcing[Product Id]=tbl_MTG_Set[[#This Row],[Play Booster Box Product Id]])*(tbl_Sourcing[Active]=TRUE))))} | AN6: {=IF(ISERROR(INDEX(_xlfn._xlws.FILTER(tbl_Sourcing[Source Name], (tbl_Sourcing[Product Id]=tbl_MTG_Set[[#This Row],[Play Booster Box Product Id]])*(tbl_Sourcing[Active]=TRUE)*(tbl_Sourcing[Source Unit Cost]=tbl_MTG_Set[[#This Row],[Play Booster Box Cost]])), 1)), "", INDEX(_xlfn._xlws.FILTER(tbl_Sourcing[Source Name], (tbl_Sourcing[Product Id]=tbl_MTG_Set[[#This Row],[Play Booster Box Product Id]])*(tbl_Sourcing[Active]=TRUE)*(tbl_Sourcing[Source Unit Cost]=tbl_MTG_Set[[#This Row],[Play Booster Box Cost]])), 1))} | AO6: =_xlfn.XLOOKUP(tbl_MTG_Set[[#This Row],[Play Booster Box Product Id]], tbl_Product[Product Id], tbl_Product[Pack Size]) | AP6: =(tbl_MTG_Set[[#This Row],[Play Booster Box Cost]]+v_Item_Shipping_Cost_In)/tbl_MTG_Set[[#This Row],[Play Booster Box Size]] | AQ6: {=IF(ISERROR(MIN(_xlfn._xlws.FILTER(tbl_Sourcing[Source Unit Cost], (tbl_Sourcing[Product Id]=tbl_MTG_Set[[#This Row],[Play Booster Product Id]])*(tbl_Sourcing[Active]=TRUE)*(tbl_Sourcing[Source Name]="Card Market")))), "", MIN(_xlfn._xlws.FILTER(tbl_Sourcing[Source Unit Cost], (tbl_Sourcing[Product Id]=tbl_MTG_Set[[#This Row],[Play Booster Product Id]])*(tbl_Sourcing[Active]=TRUE)*(tbl_Sourcing[Source Name]="Card Market"))))} | AT6: =tbl_MTG_Set[[#This Row],[Play Booster CardMarket Profit]]/tbl_MTG_Set[[#This Row],[Play Booster Cost]] | AU6: =_xlfn.XLOOKUP(tbl_MTG_Set[[#This Row],[Collector Booster Box Product Id]], tbl_Product[Product Id], tbl_Product[Min Cost]) | AV6: =_xlfn.XLOOKUP(tbl_MTG_Set[[#This Row],[Collector Booster Box Product Id]], tbl_Product[Product Id], tbl_Product[Best Source]) | AW6: =_xlfn.XLOOKUP(tbl_MTG_Set[[#This Row],[Collector Booster Box Product Id]], tbl_Product[Product Id], tbl_Product[Pack Size]) | AX6: =(tbl_MTG_Set[[#This Row],[Collector Booster Box Cost]] + v_Item_Shipping_Cost_In) / tbl_MTG_Set[[#This Row],[Collector Booster Box Size]] | AY6: {=IF(ISERROR(_xlfn._xlws.FILTER(tbl_Sourcing[Source Unit Cost], (tbl_Sourcing[Product Id]=tbl_MTG_Set[[#This Row],[Collector Booster Product Id]])*(tbl_Sourcing[Active]=TRUE)*(tbl_Sourcing[Source Name]="Card Market"))), "", _xlfn._xlws.FILTER(tbl_Sourcing[Source Unit Cost], (tbl_Sourcing[Product Id]=tbl_MTG_Set[[#This Row],[Collector Booster Product Id]])*(tbl_Sourcing[Active]=TRUE)*(tbl_Sourcing[Source Name]="Card Market")))} | BA6: =IF(ISERROR(tbl_MTG_Set[[#This Row],[Collector Booster Sell Price CardMarket]]-tbl_MTG_Set[[#This Row],[Collector Booster Cost]]-v_Item_Shipping_Cost_Out), -999, tbl_MTG_Set[[#This Row],[Collector Booster Sell Price CardMarket]]-tbl_MTG_Set[[#This Row],[Collector Booster Cost]]-v_Item_Shipping_Cost_Out) | BB6: =tbl_MTG_Set[[#This Row],[Collector Booster CardMarket Profit]]/tbl_MTG_Set[[#This Row],[Collector Booster Cost]] | BF6: =tbl_MTG_Set[[#This Row],[Play Booster Sell Price CardMarket]]*tbl_MTG_Set[[#This Row],[Play Booster Expected Market Value]]/tbl_MTG_Set[[#This Row],[Play Boost Sealed Market Value]] | BG6: =IF(ISERROR(tbl_MTG_Set[[#This Row],[Play Booster Expected Value]]-tbl_MTG_Set[[#This Row],[Play Booster Cost]]-v_Item_Shipping_Cost_Out), -999, tbl_MTG_Set[[#This Row],[Play Booster Expected Value]]-tbl_MTG_Set[[#This Row],[Play Booster Cost]]-v_Item_Shipping_Cost_Out) | BH6: =tbl_MTG_Set[[#This Row],[Play Singles CardMarket Profit]]/tbl_MTG_Set[[#This Row],[Play Booster Cost]] | BI6: =tbl_MTG_Set[[#This Row],[Play Singles CardMarket Profit]]>0 | BL6: =tbl_MTG_Set[[#This Row],[Collector Booster Sell Price CardMarket]]*tbl_MTG_Set[[#This Row],[Collector Booster Expected Market Value]]/tbl_MTG_Set[[#This Row],[Collector Boost Sealed Market Value]] | BM6: =IF(ISERROR(tbl_MTG_Set[[#This Row],[Collector Booster Expected Value]] - tbl_MTG_Set[[#This Row],[Collector Booster Cost]] - v_Item_Shipping_Cost_Out), -999, tbl_MTG_Set[[#This Row],[Collector Booster Expected Value]] - tbl_MTG_Set[[#This Row],[Collector Booster Cost]] - v_Item_Shipping_Cost_Out) | BN6: =tbl_MTG_Set[[#This Row],[Collector Singles CardMarket Profit]]/tbl_MTG_Set[[#This Row],[Collector Booster Cost]] | BO6: =tbl_MTG_Set[[#This Row],[Collector Singles CardMarket Profit]]>0 | BP6: =OR(tbl_MTG_Set[[#This Row],[Split Collector?]], tbl_MTG_Set[[#This Row],[Split Play?]], tbl_MTG_Set[[#This Row],[Collector Booster CardMarket Profit]]>0, tbl_MTG_Set[[#This Row],[Play Booster CardMarket Profit]]>0) | BQ6: =IF(tbl_MTG_Set[[#This Row],[Play Booster CardMarket Profit]]=tbl_MTG_Set[[#This Row],[Max Profit]], "Play Boosters", IF(tbl_MTG_Set[[#This Row],[Collector Booster CardMarket Profit]]=tbl_MTG_Set[[#This Row],[Max Profit]], "Collector Boosters", IF(tbl_MTG_Set[[#This Row],[Play Singles CardMarket Profit]]=tbl_MTG_Set[[#This Row],[Max Profit]], "Play Singles", "Collector Singles"))) | BR6: =MAX(IFERROR(tbl_MTG_Set[[#This Row],[Play Booster CardMarket Profit]], -999), IFERROR(tbl_MTG_Set[[#This Row],[Collector Booster CardMarket Profit]], -999), IFERROR(tbl_MTG_Set[[#This Row],[Play Singles CardMarket Profit]], -999), IFERROR(tbl_MTG_Set[[#This Row],[Collector Singles CardMarket Profit]], -999)) | BS6: =IF(tbl_MTG_Set[[#This Row],[Play Booster CardMarket Profit Margin (%)]]=tbl_MTG_Set[[#This Row],[Max Profit Margin (%)]], "Play Boosters", IF(tbl_MTG_Set[[#This Row],[Collector Booster CardMarket Profit Margin (%)]]=tbl_MTG_Set[[#This Row],[Max Profit Margin (%)]], "Collector Boosters", IF(tbl_MTG_Set[[#This Row],[Play Singles CardMarket Profit Margin (%)]]=tbl_MTG_Set[[#This Row],[Max Profit Margin (%)]], "Play Singles", "Collector Singles"))) | BT6: =MAX(IFERROR(tbl_MTG_Set[[#This Row],[Play Booster CardMarket Profit Margin (%)]], 0), IFERROR(tbl_MTG_Set[[#This Row],[Collector Booster CardMarket Profit Margin (%)]], 0), IFERROR(tbl_MTG_Set[[#This Row],[Play Singles CardMarket Profit Margin (%)]], 0), IFERROR(tbl_MTG_Set[[#This Row],[Collector Singles CardMarket Profit Margin (%)]], 0))
A7: 5 | B7: Teenage Mutant Ninja Turtles Tokens TTMT | C7: 1 | D7: 46087 | E7: Universes Beyond | F7: en es fr de it pt ja ko ru 汉语 漢語 | G7: 6 | H7: =MONTH(NOW())+12*YEAR(NOW())-MONTH(tbl_MTG_Set[[#This Row],[Released On]])-12*YEAR(tbl_MTG_Set[[#This Row],[Released On]]) | I7: =_xlfn.XLOOKUP(tbl_MTG_Set[[#This Row],[Type Name]], tbl_MTG_Set_Type[Set Type], tbl_MTG_Set_Type[Index], "(Set Type not found)") | J7: =_xlfn.XLOOKUP(tbl_MTG_Set[[#This Row],[Type Name]], tbl_MTG_Set_Type[Set Type], tbl_MTG_Set_Type[Buy Window Month Start], "(Set Type not found)") | K7: =tbl_MTG_Set[[#This Row],[Released On]]+tbl_MTG_Set[[#This Row],[Buy Window Month Start]]*365.25/12 | L7: =_xlfn.XLOOKUP(tbl_MTG_Set[[#This Row],[Type Name]], tbl_MTG_Set_Type[Set Type], tbl_MTG_Set_Type[Buy Window Month End], "(Set Type not found)", 0, 1) | M7: =tbl_MTG_Set[[#This Row],[Released On]]+tbl_MTG_Set[[#This Row],[Buy Window Month End]]*365.25/12 | N7: =AND(NOW()>=tbl_MTG_Set[[#This Row],[Buy Window Start]], NOW()<=tbl_MTG_Set[[#This Row],[Buy Window End]]) | O7: =_xlfn.XLOOKUP(tbl_MTG_Set[[#This Row],[Type Name]], tbl_MTG_Set_Type[Set Type], tbl_MTG_Set_Type[Heavy Printing Window Month Start], "(Set Type not found)", 0, 1) | P7: =tbl_MTG_Set[[#This Row],[Released On]]+tbl_MTG_Set[[#This Row],[Heavy Printing Window Month Start]]*365.25/12 | Q7: =_xlfn.XLOOKUP(tbl_MTG_Set[[#This Row],[Type Name]], tbl_MTG_Set_Type[Set Type], tbl_MTG_Set_Type[Heavy Printing Window Month End], "(Set Type not found)", 0, 1) | R7: =tbl_MTG_Set[[#This Row],[Released On]]+tbl_MTG_Set[[#This Row],[Heavy Printing Window Month End]]*365.25/12 | S7: =AND(NOW()>=tbl_MTG_Set[[#This Row],[Heavy Printing Window Start]], NOW()<=tbl_MTG_Set[[#This Row],[Heavy Printing Window End]]) | T7: =_xlfn.XLOOKUP(tbl_MTG_Set[[#This Row],[Type Name]], tbl_MTG_Set_Type[Set Type], tbl_MTG_Set_Type[Sell Window Month Start], "(Set Type not found)", 0, 1) | U7: =tbl_MTG_Set[[#This Row],[Released On]]+tbl_MTG_Set[[#This Row],[Sell Window Month Start]]*365.25/12 | V7: =_xlfn.XLOOKUP(tbl_MTG_Set[[#This Row],[Type Name]], tbl_MTG_Set_Type[Set Type], tbl_MTG_Set_Type[Sell Window Month End], "(Set Type not found)", 0, 1) | W7: =tbl_MTG_Set[[#This Row],[Released On]]+tbl_MTG_Set[[#This Row],[Sell Window Month End]]*365.25/12 | X7: =AND(NOW()>=tbl_MTG_Set[[#This Row],[Sell Window Start]], NOW()<=tbl_MTG_Set[[#This Row],[Sell Window End]]) | AM7: {=IF(ISERROR(MIN(_xlfn._xlws.FILTER(tbl_Sourcing[Source Unit Cost], (tbl_Sourcing[Product Id]=tbl_MTG_Set[[#This Row],[Play Booster Box Product Id]])*(tbl_Sourcing[Active]=TRUE)))), "", MIN(_xlfn._xlws.FILTER(tbl_Sourcing[Source Unit Cost], (tbl_Sourcing[Product Id]=tbl_MTG_Set[[#This Row],[Play Booster Box Product Id]])*(tbl_Sourcing[Active]=TRUE))))} | AN7: {=IF(ISERROR(INDEX(_xlfn._xlws.FILTER(tbl_Sourcing[Source Name], (tbl_Sourcing[Product Id]=tbl_MTG_Set[[#This Row],[Play Booster Box Product Id]])*(tbl_Sourcing[Active]=TRUE)*(tbl_Sourcing[Source Unit Cost]=tbl_MTG_Set[[#This Row],[Play Booster Box Cost]])), 1)), "", INDEX(_xlfn._xlws.FILTER(tbl_Sourcing[Source Name], (tbl_Sourcing[Product Id]=tbl_MTG_Set[[#This Row],[Play Booster Box Product Id]])*(tbl_Sourcing[Active]=TRUE)*(tbl_Sourcing[Source Unit Cost]=tbl_MTG_Set[[#This Row],[Play Booster Box Cost]])), 1))} | AO7: =_xlfn.XLOOKUP(tbl_MTG_Set[[#This Row],[Play Booster Box Product Id]], tbl_Product[Product Id], tbl_Product[Pack Size]) | AP7: =(tbl_MTG_Set[[#This Row],[Play Booster Box Cost]]+v_Item_Shipping_Cost_In)/tbl_MTG_Set[[#This Row],[Play Booster Box Size]] | AQ7: {=IF(ISERROR(MIN(_xlfn._xlws.FILTER(tbl_Sourcing[Source Unit Cost], (tbl_Sourcing[Product Id]=tbl_MTG_Set[[#This Row],[Play Booster Product Id]])*(tbl_Sourcing[Active]=TRUE)*(tbl_Sourcing[Source Name]="Card Market")))), "", MIN(_xlfn._xlws.FILTER(tbl_Sourcing[Source Unit Cost], (tbl_Sourcing[Product Id]=tbl_MTG_Set[[#This Row],[Play Booster Product Id]])*(tbl_Sourcing[Active]=TRUE)*(tbl_Sourcing[Source Name]="Card Market"))))} | AT7: =tbl_MTG_Set[[#This Row],[Play Booster CardMarket Profit]]/tbl_MTG_Set[[#This Row],[Play Booster Cost]] | AU7: =_xlfn.XLOOKUP(tbl_MTG_Set[[#This Row],[Collector Booster Box Product Id]], tbl_Product[Product Id], tbl_Product[Min Cost]) | AV7: =_xlfn.XLOOKUP(tbl_MTG_Set[[#This Row],[Collector Booster Box Product Id]], tbl_Product[Product Id], tbl_Product[Best Source]) | AW7: =_xlfn.XLOOKUP(tbl_MTG_Set[[#This Row],[Collector Booster Box Product Id]], tbl_Product[Product Id], tbl_Product[Pack Size]) | AX7: =(tbl_MTG_Set[[#This Row],[Collector Booster Box Cost]] + v_Item_Shipping_Cost_In) / tbl_MTG_Set[[#This Row],[Collector Booster Box Size]] | AY7: {=IF(ISERROR(_xlfn._xlws.FILTER(tbl_Sourcing[Source Unit Cost], (tbl_Sourcing[Product Id]=tbl_MTG_Set[[#This Row],[Collector Booster Product Id]])*(tbl_Sourcing[Active]=TRUE)*(tbl_Sourcing[Source Name]="Card Market"))), "", _xlfn._xlws.FILTER(tbl_Sourcing[Source Unit Cost], (tbl_Sourcing[Product Id]=tbl_MTG_Set[[#This Row],[Collector Booster Product Id]])*(tbl_Sourcing[Active]=TRUE)*(tbl_Sourcing[Source Name]="Card Market")))} | BA7: =IF(ISERROR(tbl_MTG_Set[[#This Row],[Collector Booster Sell Price CardMarket]]-tbl_MTG_Set[[#This Row],[Collector Booster Cost]]-v_Item_Shipping_Cost_Out), -999, tbl_MTG_Set[[#This Row],[Collector Booster Sell Price CardMarket]]-tbl_MTG_Set[[#This Row],[Collector Booster Cost]]-v_Item_Shipping_Cost_Out) | BB7: =tbl_MTG_Set[[#This Row],[Collector Booster CardMarket Profit]]/tbl_MTG_Set[[#This Row],[Collector Booster Cost]] | BF7: =tbl_MTG_Set[[#This Row],[Play Booster Sell Price CardMarket]]*tbl_MTG_Set[[#This Row],[Play Booster Expected Market Value]]/tbl_MTG_Set[[#This Row],[Play Boost Sealed Market Value]] | BG7: =IF(ISERROR(tbl_MTG_Set[[#This Row],[Play Booster Expected Value]]-tbl_MTG_Set[[#This Row],[Play Booster Cost]]-v_Item_Shipping_Cost_Out), -999, tbl_MTG_Set[[#This Row],[Play Booster Expected Value]]-tbl_MTG_Set[[#This Row],[Play Booster Cost]]-v_Item_Shipping_Cost_Out) | BH7: =tbl_MTG_Set[[#This Row],[Play Singles CardMarket Profit]]/tbl_MTG_Set[[#This Row],[Play Booster Cost]] | BI7: =tbl_MTG_Set[[#This Row],[Play Singles CardMarket Profit]]>0 | BL7: =tbl_MTG_Set[[#This Row],[Collector Booster Sell Price CardMarket]]*tbl_MTG_Set[[#This Row],[Collector Booster Expected Market Value]]/tbl_MTG_Set[[#This Row],[Collector Boost Sealed Market Value]] | BM7: =IF(ISERROR(tbl_MTG_Set[[#This Row],[Collector Booster Expected Value]] - tbl_MTG_Set[[#This Row],[Collector Booster Cost]] - v_Item_Shipping_Cost_Out), -999, tbl_MTG_Set[[#This Row],[Collector Booster Expected Value]] - tbl_MTG_Set[[#This Row],[Collector Booster Cost]] - v_Item_Shipping_Cost_Out) | BN7: =tbl_MTG_Set[[#This Row],[Collector Singles CardMarket Profit]]/tbl_MTG_Set[[#This Row],[Collector Booster Cost]] | BO7: =tbl_MTG_Set[[#This Row],[Collector Singles CardMarket Profit]]>0 | BP7: =OR(tbl_MTG_Set[[#This Row],[Split Collector?]], tbl_MTG_Set[[#This Row],[Split Play?]], tbl_MTG_Set[[#This Row],[Collector Booster CardMarket Profit]]>0, tbl_MTG_Set[[#This Row],[Play Booster CardMarket Profit]]>0) | BQ7: =IF(tbl_MTG_Set[[#This Row],[Play Booster CardMarket Profit]]=tbl_MTG_Set[[#This Row],[Max Profit]], "Play Boosters", IF(tbl_MTG_Set[[#This Row],[Collector Booster CardMarket Profit]]=tbl_MTG_Set[[#This Row],[Max Profit]], "Collector Boosters", IF(tbl_MTG_Set[[#This Row],[Play Singles CardMarket Profit]]=tbl_MTG_Set[[#This Row],[Max Profit]], "Play Singles", "Collector Singles"))) | BR7: =MAX(IFERROR(tbl_MTG_Set[[#This Row],[Play Booster CardMarket Profit]], -999), IFERROR(tbl_MTG_Set[[#This Row],[Collector Booster CardMarket Profit]], -999), IFERROR(tbl_MTG_Set[[#This Row],[Play Singles CardMarket Profit]], -999), IFERROR(tbl_MTG_Set[[#This Row],[Collector Singles CardMarket Profit]], -999)) | BS7: =IF(tbl_MTG_Set[[#This Row],[Play Booster CardMarket Profit Margin (%)]]=tbl_MTG_Set[[#This Row],[Max Profit Margin (%)]], "Play Boosters", IF(tbl_MTG_Set[[#This Row],[Collector Booster CardMarket Profit Margin (%)]]=tbl_MTG_Set[[#This Row],[Max Profit Margin (%)]], "Collector Boosters", IF(tbl_MTG_Set[[#This Row],[Play Singles CardMarket Profit Margin (%)]]=tbl_MTG_Set[[#This Row],[Max Profit Margin (%)]], "Play Singles", "Collector Singles"))) | BT7: =MAX(IFERROR(tbl_MTG_Set[[#This Row],[Play Booster CardMarket Profit Margin (%)]], 0), IFERROR(tbl_MTG_Set[[#This Row],[Collector Booster CardMarket Profit Margin (%)]], 0), IFERROR(tbl_MTG_Set[[#This Row],[Play Singles CardMarket Profit Margin (%)]], 0), IFERROR(tbl_MTG_Set[[#This Row],[Collector Singles CardMarket Profit Margin (%)]], 0))
