Workbook

Sheet Company Names
A1: Rank | B1: Name | C1: CardMarket | D1: Companies House | E1: Domain | F1: YouTube | G1: Tierney Approved | H1: Notes
A2: 1 | B2: Shuffle & Skirmish | C2: =TRUE() | D2: =TRUE() | E2: =TRUE() | F2: =TRUE() | G2: =TRUE()
A3: 2 | B3: Mana & Miniatures | C3: =TRUE() | D3: =TRUE() | E3: =TRUE() | F3: =TRUE() | G3: =TRUE()
A4: 3 | B4: Draw & Deploy | C4: =TRUE() | D4: =TRUE() | E4: =TRUE() | F4: =TRUE() | G4: =FALSE()
A5: 4 | B5: Sum of All Plays | C5: =TRUE() | D5: =TRUE() | E5: =TRUE() | F5: =TRUE() | G5: =FALSE()
A6: 5 | B6: Shufflin' & Scufflin' | C6: =TRUE() | D6: =TRUE() | E6: =TRUE() | F6: =TRUE() | G6: =FALSE() | H6: Gullen family favourite, Name clashes with content on YT
A7: 6 | B7: Strategic Shuffle | C7: =TRUE() | D7: =TRUE() | E7: =FALSE() | F7: =TRUE() | G7: =FALSE()
A8: 7 | B8: Deck Check | C8: =TRUE() | D8: =TRUE() | F8: =FALSE() | G8: =TRUE()
A9: 8 | B9: Friendly Fire Gaming | C9: =TRUE() | D9: =TRUE() | F9: =FALSE() | G9: =FALSE()
A10: 9 | B10: Tabletop Chronicles | C10: =TRUE() | D10: =TRUE() | F10: =FALSE() | G10: =TRUE()
A11: 10 | B11: Critical Collection | C11: =TRUE() | D11: =TRUE() | F11: =FALSE() | G11: =FALSE()
A12: 11 | B12: Expected Value Gaming | C12: =TRUE() | D12: =TRUE() | F12: =FALSE() | G12: =FALSE()
A13: 12 | B13: Casual Competitive Gaming | D13: =TRUE() | G13: =FALSE() | H13: Juxtaposition Mouthful Lots of similar names
A14: 13 | B14: Calculated Gaming | D14: =TRUE() | G14: =FALSE() | H14: Saturated name
A15: 14 | B15: Plus One Gaming | D15: =TRUE() | G15: =FALSE() | H15: Saturated name
A16: 15 | B16: Calculate And Conquer | D16: =TRUE() | G16: =FALSE() | H16: Saturated name
A17: 16 | B17: Odds & Minis | D17: =TRUE() | G17: =FALSE() | H17: Saturated name
A18: 17 | B18: Roll & Calculate | D18: =TRUE() | G18: =FALSE() | H18: Saturated name
A19: 18 | B19: Tactical Table Gaming | D19: =TRUE() | G19: =FALSE() | H19: Saturated name
A20: 19 | B20: Measured Moves Gaming | D20: =TRUE() | G20: =FALSE() | H20: Saturated name
A21: 20 | B21: Tap That Gaming | D21: =TRUE() | G21: =FALSE() | H21: Too degrading to women?
A22: 21 | B22: The Gaming Table | D22: =TRUE() | G22: =TRUE() | H22: Too long? "The Games Table" exists on CH
A23: 22 | B23: Optimal Play Gaming | D23: =TRUE() | G23: =FALSE() | H23: Very saturated name
A24: 23 | B24: The Hobby Hub | D24: =FALSE() | G24: =FALSE()
A25: 24 | B25: Card It | D25: =FALSE() | G25: =FALSE()

Sheet MTG Set Lookup Table
A1: Index | B1: Set Type | C1: Buy Window (Months) | D1: Why | E1: Heavy Printing Months | F1: Tapering Months | G1: Final Print Run Months | H1: Sell Window (Months) | I1: Buy Window Month Start | J1: Buy Window Month End | K1: Heavy Printing Window Month Start | L1: Heavy Printing Window Month End | M1: Sell Window Month Start | N1: Sell Window Month End | Q1: My Set Type | R1: Corresponding Scryfall Set Type(s) | W1: Set Name | X1: Card Count | Y1: Released On | Z1: Type Name | AA1: Language Codes
A2: 1 | B2: Standard Expansion | C2: 18-24 | D2: Approaching end of print, prices haven't spiked yet | E2: 1-18 | F2: 18-24 | G2: 24-30 | H2: 36-48+ | I2: 18 | J2: 24 | K2: {=_xlfn.NUMBERVALUE(INDEX(_xlfn.textsplit(tbl_MTG_Set_Type[[#This Row],[Heavy Printing Months]], "-"), 1), ".", ",")} | L2: {=_xlfn.NUMBERVALUE(INDEX(_xlfn.textsplit(tbl_MTG_Set_Type[[#This Row],[Heavy Printing Months]], "-"), COLUMNS(_xlfn.textsplit(tbl_MTG_Set_Type[[#This Row],[Heavy Printing Months]], "-"))), ".", ",")} | M2: 36 | N2: 48 | Q2: Standard Expansion | R2: core, expansion
A3: 2 | B3: Remastered | C3: 3-6 | D3: Usually stay expensive | E3: 6-12 | H3: 18-36+ | I3: 3 | J3: 6 | K3: {=_xlfn.NUMBERVALUE(INDEX(_xlfn.textsplit(tbl_MTG_Set_Type[[#This Row],[Heavy Printing Months]], "-"), 1), ".", ",")} | L3: {=_xlfn.NUMBERVALUE(INDEX(_xlfn.textsplit(tbl_MTG_Set_Type[[#This Row],[Heavy Printing Months]], "-"), COLUMNS(_xlfn.textsplit(tbl_MTG_Set_Type[[#This Row],[Heavy Printing Months]], "-"))), ".", ",")} | M3: 18 | N3: 36 | Q3: Remastered | R3: masters
A4: 3 | B4: Masters | C4: Avoid at retail | D4: Too expensive from launch | E4: 6-12 | H4: 24-60+ | K4: {=_xlfn.NUMBERVALUE(INDEX(_xlfn.textsplit(tbl_MTG_Set_Type[[#This Row],[Heavy Printing Months]], "-"), 1), ".", ",")} | L4: {=_xlfn.NUMBERVALUE(INDEX(_xlfn.textsplit(tbl_MTG_Set_Type[[#This Row],[Heavy Printing Months]], "-"), COLUMNS(_xlfn.textsplit(tbl_MTG_Set_Type[[#This Row],[Heavy Printing Months]], "-"))), ".", ",")} | M4: 24 | N4: 60 | Q4: Masters | R4: masters
A5: 4 | B5: Modern Horizons | C5: 6-12 | D5: If prices dip below launch | E5: 6-12 | H5: 24-48+ | I5: 6 | J5: 12 | K5: {=_xlfn.NUMBERVALUE(INDEX(_xlfn.textsplit(tbl_MTG_Set_Type[[#This Row],[Heavy Printing Months]], "-"), 1), ".", ",")} | L5: {=_xlfn.NUMBERVALUE(INDEX(_xlfn.textsplit(tbl_MTG_Set_Type[[#This Row],[Heavy Printing Months]], "-"), COLUMNS(_xlfn.textsplit(tbl_MTG_Set_Type[[#This Row],[Heavy Printing Months]], "-"))), ".", ",")} | M5: 24 | N5: 48 | Q5: Modern Horizons | R5: draft_innovation (filter by set name)
A6: 5 | B6: Commander | C6: 3-12 | D6: Clearance phase | E6: 12-18 | H6: 24+ | I6: 3 | J6: 12 | K6: {=_xlfn.NUMBERVALUE(INDEX(_xlfn.textsplit(tbl_MTG_Set_Type[[#This Row],[Heavy Printing Months]], "-"), 1), ".", ",")} | L6: {=_xlfn.NUMBERVALUE(INDEX(_xlfn.textsplit(tbl_MTG_Set_Type[[#This Row],[Heavy Printing Months]], "-"), COLUMNS(_xlfn.textsplit(tbl_MTG_Set_Type[[#This Row],[Heavy Printing Months]], "-"))), ".", ",")} | M6: 24 | N6: 24 | Q6: Commander | R6: commander
A7: 6 | B7: Universes Beyond | C7: 3-6 | D7: Post-hype reality check | E7: ? | H7: ? | I7: 3 | J7: 6 | Q7: Universes Beyond | R7: commander, expansion, draft_innovation (filter by set name)
A8: 7 | B8: Micro-sets | C8: Never | D8: Too risky | E8: 3-6 | H8: N/A | K8: 3 | L8: {=_xlfn.NUMBERVALUE(INDEX(_xlfn.textsplit(tbl_MTG_Set_Type[[#This Row],[Heavy Printing Months]], "-"), COLUMNS(_xlfn.textsplit(tbl_MTG_Set_Type[[#This Row],[Heavy Printing Months]], "-"))), ".", ",")} | Q8: Micro-sets | R8: arsenal, from_the_vault, spellbook, premium_deck
A9: 8 | B9: Core | C9: N/A | D9: Historical | E9: 18-24 | K9: 18 | L9: {=_xlfn.NUMBERVALUE(INDEX(_xlfn.textsplit(tbl_MTG_Set_Type[[#This Row],[Heavy Printing Months]], "-"), COLUMNS(_xlfn.textsplit(tbl_MTG_Set_Type[[#This Row],[Heavy Printing Months]], "-"))), ".", ",")}

Sheet MTG Set
Y1: Play/Set Booster Box Buy Price | AD1: Play/Set Booster From Box Buy Price
A2: Index | B2: Set Name | C2: Card Count | D2: Released On | E2: Type Name | F2: Language Codes | G2: Row number | H2: Months Since Release | I2: Set Type Record Index | J2: Buy Window Month Start | K2: Buy Window Start | L2: Buy Window Month End | M2: Buy Window End | N2: Buy Now? | O2: Heavy Printing Window Month Start | P2: Heavy Printing Window Start | Q2: Heavy Printing Window Month End | R2: Heavy Printing Window End | S2: Heavy Printing Now? | T2: Sell Window Month Start | U2: Sell Window Start | V2: Sell Window Month End | W2: Sell Window End | X2: Sell Now? | Y2: CardMarket PSBBBP | Z2: Chaos Cards PSBBBP | AA2: Magic Madhouse PSBBBP | AB2: MuddleIt PSBBBP | AC2: PlusMarketing PSBBBP | AD2: CardMarket PSBFBBP | AE2: Chaos Cards PSBFBBP | AF2: Magic Madhouse PSBFBBP | AG2: MuddleIt PSBFBBP | AH2: PlusMarketing PSBFBBP | AI2: Play Booster Box Product Id | AJ2: Play Booster Box Cost | AK2: Play Booster Box Source Name | AL2: Play Booster Box Size | AM2: Play Booster Cost | AN2: Play Booster Sell Price CardMarket | AO2: Play Booster Sell Price FB Marketplace | AP2: CardMarket Profit | AQ2: EV MTG Stocks Link | AR2: Play Booster Expected Market Value | AS2: Play Boost Sealed Market Value | AT2: Play Booster Expected Value
A3: 814 | B3: 15th Anniversary Cards P15A | C3: 2 | D3: 39539 | F3: en es fr de it pt ja ko ru 汉语 漢語 | G3: 1574 | H3: =MONTH(NOW())+12*YEAR(NOW())-MONTH(tbl_MTG_Set[[#This Row],[Released On]])-12*YEAR(tbl_MTG_Set[[#This Row],[Released On]]) | I3: =_xlfn.xlookup(tbl_MTG_Set[[#This Row],[Type Name]], tbl_MTG_Set_Type[Set Type], tbl_MTG_Set_Type[Index], "(Set Type not found)") | J3: =_xlfn.xlookup(tbl_MTG_Set[[#This Row],[Type Name]], tbl_MTG_Set_Type[Set Type], tbl_MTG_Set_Type[Buy Window Month Start], "(Set Type not found)") | K3: =tbl_MTG_Set[[#This Row],[Released On]]+tbl_MTG_Set[[#This Row],[Buy Window Month Start]]*365.25/12 | L3: =_xlfn.xlookup(tbl_MTG_Set[[#This Row],[Type Name]], tbl_MTG_Set_Type[Set Type], tbl_MTG_Set_Type[Buy Window Month End], "(Set Type not found)", 0, 1) | M3: =tbl_MTG_Set[[#This Row],[Released On]]+tbl_MTG_Set[[#This Row],[Buy Window Month End]]*365.25/12 | N3: =AND(NOW()>=tbl_MTG_Set[[#This Row],[Buy Window Start]], NOW()<=tbl_MTG_Set[[#This Row],[Buy Window End]]) | O3: =_xlfn.xlookup(tbl_MTG_Set[[#This Row],[Type Name]], tbl_MTG_Set_Type[Set Type], tbl_MTG_Set_Type[Heavy Printing Window Month Start], "(Set Type not found)", 0, 1) | P3: =tbl_MTG_Set[[#This Row],[Released On]]+tbl_MTG_Set[[#This Row],[Heavy Printing Window Month Start]]*365.25/12 | Q3: =_xlfn.xlookup(tbl_MTG_Set[[#This Row],[Type Name]], tbl_MTG_Set_Type[Set Type], tbl_MTG_Set_Type[Heavy Printing Window Month End], "(Set Type not found)", 0, 1) | R3: =tbl_MTG_Set[[#This Row],[Released On]]+tbl_MTG_Set[[#This Row],[Heavy Printing Window Month End]]*365.25/12 | S3: =AND(NOW()>=tbl_MTG_Set[[#This Row],[Heavy Printing Window Start]], NOW()<=tbl_MTG_Set[[#This Row],[Heavy Printing Window End]]) | T3: =_xlfn.xlookup(tbl_MTG_Set[[#This Row],[Type Name]], tbl_MTG_Set_Type[Set Type], tbl_MTG_Set_Type[Sell Window Month Start], "(Set Type not found)", 0, 1) | U3: =tbl_MTG_Set[[#This Row],[Released On]]+tbl_MTG_Set[[#This Row],[Sell Window Month Start]]*365.25/12 | V3: =_xlfn.xlookup(tbl_MTG_Set[[#This Row],[Type Name]], tbl_MTG_Set_Type[Set Type], tbl_MTG_Set_Type[Sell Window Month End], "(Set Type not found)", 0, 1) | W3: =tbl_MTG_Set[[#This Row],[Released On]]+tbl_MTG_Set[[#This Row],[Sell Window Month End]]*365.25/12 | X3: =AND(NOW()>=tbl_MTG_Set[[#This Row],[Sell Window Start]], NOW()<=tbl_MTG_Set[[#This Row],[Sell Window End]]) | AJ3: {=IF(ISERROR(MIN(_xlfn._xlws.filter(tbl_Sourcing[Source Unit Cost], (tbl_Sourcing[Product Id]=tbl_MTG_Set[[#This Row],[Play Booster Box Product Id]])*(tbl_Sourcing[Active]=TRUE())))), "", MIN(_xlfn._xlws.filter(tbl_Sourcing[Source Unit Cost], (tbl_Sourcing[Product Id]=tbl_MTG_Set[[#This Row],[Play Booster Box Product Id]])*(tbl_Sourcing[Active]=TRUE()))))} | AK3: {=IF(ISERROR(INDEX(_xlfn._xlws.filter(tbl_Sourcing[Source Name], (tbl_Sourcing[Product Id]=tbl_MTG_Set[[#This Row],[Play Booster Box Product Id]])*(tbl_Sourcing[Active]=TRUE())*(tbl_Sourcing[Source Unit Cost]=tbl_MTG_Set[[#This Row],[Play Booster Box Cost]])), 1)), "", INDEX(_xlfn._xlws.filter(tbl_Sourcing[Source Name], (tbl_Sourcing[Product Id]=tbl_MTG_Set[[#This Row],[Play Booster Box Product Id]])*(tbl_Sourcing[Active]=TRUE())*(tbl_Sourcing[Source Unit Cost]=tbl_MTG_Set[[#This Row],[Play Booster Box Cost]])), 1))} | AL3: =_xlfn.xlookup(tbl_MTG_Set[[#This Row],[Play Booster Box Product Id]], tbl_Product[Product Id], tbl_Product[Pack Size]) | AM3: =(tbl_MTG_Set[[#This Row],[Play Booster Box Cost]]+v_Item_Shipping_Cost_In)/tbl_MTG_Set[[#This Row],[Play Booster Box Size]] | AT3: =tbl_MTG_Set[[#This Row],[Play Booster Sell Price CardMarket]]*tbl_MTG_Set[[#This Row],[Play Booster Expected Market Value]]/tbl_MTG_Set[[#This Row],[Play Boost Sealed Market Value]]
A4: 519 | B4: 2016 Heroes of the Realm PHTR | C4: 3 | D4: 42998 | F4: en es fr de it pt ja ko ru 汉语 漢語 | G4: 984 | H4: =MONTH(NOW())+12*YEAR(NOW())-MONTH(tbl_MTG_Set[[#This Row],[Released On]])-12*YEAR(tbl_MTG_Set[[#This Row],[Released On]]) | I4: =_xlfn.xlookup(tbl_MTG_Set[[#This Row],[Type Name]], tbl_MTG_Set_Type[Set Type], tbl_MTG_Set_Type[Index], "(Set Type not found)") | J4: =_xlfn.xlookup(tbl_MTG_Set[[#This Row],[Type Name]], tbl_MTG_Set_Type[Set Type], tbl_MTG_Set_Type[Buy Window Month Start], "(Set Type not found)") | K4: =tbl_MTG_Set[[#This Row],[Released On]]+tbl_MTG_Set[[#This Row],[Buy Window Month Start]]*365.25/12 | L4: =_xlfn.xlookup(tbl_MTG_Set[[#This Row],[Type Name]], tbl_MTG_Set_Type[Set Type], tbl_MTG_Set_Type[Buy Window Month End], "(Set Type not found)", 0, 1) | M4: =tbl_MTG_Set[[#This Row],[Released On]]+tbl_MTG_Set[[#This Row],[Buy Window Month End]]*365.25/12 | N4: =AND(NOW()>=tbl_MTG_Set[[#This Row],[Buy Window Start]], NOW()<=tbl_MTG_Set[[#This Row],[Buy Window End]]) | O4: =_xlfn.xlookup(tbl_MTG_Set[[#This Row],[Type Name]], tbl_MTG_Set_Type[Set Type], tbl_MTG_Set_Type[Heavy Printing Window Month Start], "(Set Type not found)", 0, 1) | P4: =tbl_MTG_Set[[#This Row],[Released On]]+tbl_MTG_Set[[#This Row],[Heavy Printing Window Month Start]]*365.25/12 | Q4: =_xlfn.xlookup(tbl_MTG_Set[[#This Row],[Type Name]], tbl_MTG_Set_Type[Set Type], tbl_MTG_Set_Type[Heavy Printing Window Month End], "(Set Type not found)", 0, 1) | R4: =tbl_MTG_Set[[#This Row],[Released On]]+tbl_MTG_Set[[#This Row],[Heavy Printing Window Month End]]*365.25/12 | S4: =AND(NOW()>=tbl_MTG_Set[[#This Row],[Heavy Printing Window Start]], NOW()<=tbl_MTG_Set[[#This Row],[Heavy Printing Window End]]) | T4: =_xlfn.xlookup(tbl_MTG_Set[[#This Row],[Type Name]], tbl_MTG_Set_Type[Set Type], tbl_MTG_Set_Type[Sell Window Month Start], "(Set Type not found)", 0, 1) | U4: =tbl_MTG_Set[[#This Row],[Released On]]+tbl_MTG_Set[[#This Row],[Sell Window Month Start]]*365.25/12 | V4: =_xlfn.xlookup(tbl_MTG_Set[[#This Row],[Type Name]], tbl_MTG_Set_Type[Set Type], tbl_MTG_Set_Type[Sell Window Month End], "(Set Type not found)", 0, 1) | W4: =tbl_MTG_Set[[#This Row],[Released On]]+tbl_MTG_Set[[#This Row],[Sell Window Month End]]*365.25/12 | X4: =AND(NOW()>=tbl_MTG_Set[[#This Row],[Sell Window Start]], NOW()<=tbl_MTG_Set[[#This Row],[Sell Window End]]) | AJ4: {=IF(ISERROR(MIN(_xlfn._xlws.filter(tbl_Sourcing[Source Unit Cost], (tbl_Sourcing[Product Id]=tbl_MTG_Set[[#This Row],[Play Booster Box Product Id]])*(tbl_Sourcing[Active]=TRUE())))), "", MIN(_xlfn._xlws.filter(tbl_Sourcing[Source Unit Cost], (tbl_Sourcing[Product Id]=tbl_MTG_Set[[#This Row],[Play Booster Box Product Id]])*(tbl_Sourcing[Active]=TRUE()))))} | AK4: {=IF(ISERROR(INDEX(_xlfn._xlws.filter(tbl_Sourcing[Source Name], (tbl_Sourcing[Product Id]=tbl_MTG_Set[[#This Row],[Play Booster Box Product Id]])*(tbl_Sourcing[Active]=TRUE())*(tbl_Sourcing[Source Unit Cost]=tbl_MTG_Set[[#This Row],[Play Booster Box Cost]])), 1)), "", INDEX(_xlfn._xlws.filter(tbl_Sourcing[Source Name], (tbl_Sourcing[Product Id]=tbl_MTG_Set[[#This Row],[Play Booster Box Product Id]])*(tbl_Sourcing[Active]=TRUE())*(tbl_Sourcing[Source Unit Cost]=tbl_MTG_Set[[#This Row],[Play Booster Box Cost]])), 1))} | AL4: =_xlfn.xlookup(tbl_MTG_Set[[#This Row],[Play Booster Box Product Id]], tbl_Product[Product Id], tbl_Product[Pack Size]) | AM4: =(tbl_MTG_Set[[#This Row],[Play Booster Box Cost]]+v_Item_Shipping_Cost_In)/tbl_MTG_Set[[#This Row],[Play Booster Box Size]] | AT4: =tbl_MTG_Set[[#This Row],[Play Booster Sell Price CardMarket]]*tbl_MTG_Set[[#This Row],[Play Booster Expected Market Value]]/tbl_MTG_Set[[#This Row],[Play Boost Sealed Market Value]]
A5: 512 | B5: 2017 Gift Pack G17 | C5: 5 | D5: 43028 | F5: en es fr de it pt ja ko ru 汉语 漢語 | G5: 970 | H5: =MONTH(NOW())+12*YEAR(NOW())-MONTH(tbl_MTG_Set[[#This Row],[Released On]])-12*YEAR(tbl_MTG_Set[[#This Row],[Released On]]) | I5: =_xlfn.xlookup(tbl_MTG_Set[[#This Row],[Type Name]], tbl_MTG_Set_Type[Set Type], tbl_MTG_Set_Type[Index], "(Set Type not found)") | J5: =_xlfn.xlookup(tbl_MTG_Set[[#This Row],[Type Name]], tbl_MTG_Set_Type[Set Type], tbl_MTG_Set_Type[Buy Window Month Start], "(Set Type not found)") | K5: =tbl_MTG_Set[[#This Row],[Released On]]+tbl_MTG_Set[[#This Row],[Buy Window Month Start]]*365.25/12 | L5: =_xlfn.xlookup(tbl_MTG_Set[[#This Row],[Type Name]], tbl_MTG_Set_Type[Set Type], tbl_MTG_Set_Type[Buy Window Month End], "(Set Type not found)", 0, 1) | M5: =tbl_MTG_Set[[#This Row],[Released On]]+tbl_MTG_Set[[#This Row],[Buy Window Month End]]*365.25/12 | N5: =AND(NOW()>=tbl_MTG_Set[[#This Row],[Buy Window Start]], NOW()<=tbl_MTG_Set[[#This Row],[Buy Window End]]) | O5: =_xlfn.xlookup(tbl_MTG_Set[[#This Row],[Type Name]], tbl_MTG_Set_Type[Set Type], tbl_MTG_Set_Type[Heavy Printing Window Month Start], "(Set Type not found)", 0, 1) | P5: =tbl_MTG_Set[[#This Row],[Released On]]+tbl_MTG_Set[[#This Row],[Heavy Printing Window Month Start]]*365.25/12 | Q5: =_xlfn.xlookup(tbl_MTG_Set[[#This Row],[Type Name]], tbl_MTG_Set_Type[Set Type], tbl_MTG_Set_Type[Heavy Printing Window Month End], "(Set Type not found)", 0, 1) | R5: =tbl_MTG_Set[[#This Row],[Released On]]+tbl_MTG_Set[[#This Row],[Heavy Printing Window Month End]]*365.25/12 | S5: =AND(NOW()>=tbl_MTG_Set[[#This Row],[Heavy Printing Window Start]], NOW()<=tbl_MTG_Set[[#This Row],[Heavy Printing Window End]]) | T5: =_xlfn.xlookup(tbl_MTG_Set[[#This Row],[Type Name]], tbl_MTG_Set_Type[Set Type], tbl_MTG_Set_Type[Sell Window Month Start], "(Set Type not found)", 0, 1) | U5: =tbl_MTG_Set[[#This Row],[Released On]]+tbl_MTG_Set[[#This Row],[Sell Window Month Start]]*365.25/12 | V5: =_xlfn.xlookup(tbl_MTG_Set[[#This Row],[Type Name]], tbl_MTG_Set_Type[Set Type], tbl_MTG_Set_Type[Sell Window Month End], "(Set Type not found)", 0, 1) | W5: =tbl_MTG_Set[[#This Row],[Released On]]+tbl_MTG_Set[[#This Row],[Sell Window Month End]]*365.25/12 | X5: =AND(NOW()>=tbl_MTG_Set[[#This Row],[Sell Window Start]], NOW()<=tbl_MTG_Set[[#This Row],[Sell Window End]]) | AJ5: {=IF(ISERROR(MIN(_xlfn._xlws.filter(tbl_Sourcing[Source Unit Cost], (tbl_Sourcing[Product Id]=tbl_MTG_Set[[#This Row],[Play Booster Box Product Id]])*(tbl_Sourcing[Active]=TRUE())))), "", MIN(_xlfn._xlws.filter(tbl_Sourcing[Source Unit Cost], (tbl_Sourcing[Product Id]=tbl_MTG_Set[[#This Row],[Play Booster Box Product Id]])*(tbl_Sourcing[Active]=TRUE()))))} | AK5: {=IF(ISERROR(INDEX(_xlfn._xlws.filter(tbl_Sourcing[Source Name], (tbl_Sourcing[Product Id]=tbl_MTG_Set[[#This Row],[Play Booster Box Product Id]])*(tbl_Sourcing[Active]=TRUE())*(tbl_Sourcing[Source Unit Cost]=tbl_MTG_Set[[#This Row],[Play Booster Box Cost]])), 1)), "", INDEX(_xlfn._xlws.filter(tbl_Sourcing[Source Name], (tbl_Sourcing[Product Id]=tbl_MTG_Set[[#This Row],[Play Booster Box Product Id]])*(tbl_Sourcing[Active]=TRUE())*(tbl_Sourcing[Source Unit Cost]=tbl_MTG_Set[[#This Row],[Play Booster Box Cost]])), 1))} | AL5: =_xlfn.xlookup(tbl_MTG_Set[[#This Row],[Play Booster Box Product Id]], tbl_Product[Product Id], tbl_Product[Pack Size]) | AM5: =(tbl_MTG_Set[[#This Row],[Play Booster Box Cost]]+v_Item_Shipping_Cost_In)/tbl_MTG_Set[[#This Row],[Play Booster Box Size]] | AT5: =tbl_MTG_Set[[#This Row],[Play Booster Sell Price CardMarket]]*tbl_MTG_Set[[#This Row],[Play Booster Expected Market Value]]/tbl_MTG_Set[[#This Row],[Play Boost Sealed Market Value]]
A6: 469 | B6: 2017 Heroes of the Realm PH17 | C6: 3 | D6: 43313 | F6: en es fr de it pt ja ko ru 汉语 漢語 | G6: 884 | H6: =MONTH(NOW())+12*YEAR(NOW())-MONTH(tbl_MTG_Set[[#This Row],[Released On]])-12*YEAR(tbl_MTG_Set[[#This Row],[Released On]]) | I6: =_xlfn.xlookup(tbl_MTG_Set[[#This Row],[Type Name]], tbl_MTG_Set_Type[Set Type], tbl_MTG_Set_Type[Index], "(Set Type not found)") | J6: =_xlfn.xlookup(tbl_MTG_Set[[#This Row],[Type Name]], tbl_MTG_Set_Type[Set Type], tbl_MTG_Set_Type[Buy Window Month Start], "(Set Type not found)") | K6: =tbl_MTG_Set[[#This Row],[Released On]]+tbl_MTG_Set[[#This Row],[Buy Window Month Start]]*365.25/12 | L6: =_xlfn.xlookup(tbl_MTG_Set[[#This Row],[Type Name]], tbl_MTG_Set_Type[Set Type], tbl_MTG_Set_Type[Buy Window Month End], "(Set Type not found)", 0, 1) | M6: =tbl_MTG_Set[[#This Row],[Released On]]+tbl_MTG_Set[[#This Row],[Buy Window Month End]]*365.25/12 | N6: =AND(NOW()>=tbl_MTG_Set[[#This Row],[Buy Window Start]], NOW()<=tbl_MTG_Set[[#This Row],[Buy Window End]]) | O6: =_xlfn.xlookup(tbl_MTG_Set[[#This Row],[Type Name]], tbl_MTG_Set_Type[Set Type], tbl_MTG_Set_Type[Heavy Printing Window Month Start], "(Set Type not found)", 0, 1) | P6: =tbl_MTG_Set[[#This Row],[Released On]]+tbl_MTG_Set[[#This Row],[Heavy Printing Window Month Start]]*365.25/12 | Q6: =_xlfn.xlookup(tbl_MTG_Set[[#This Row],[Type Name]], tbl_MTG_Set_Type[Set Type], tbl_MTG_Set_Type[Heavy Printing Window Month End], "(Set Type not found)", 0, 1) | R6: =tbl_MTG_Set[[#This Row],[Released On]]+tbl_MTG_Set[[#This Row],[Heavy Printing Window Month End]]*365.25/12 | S6: =AND(NOW()>=tbl_MTG_Set[[#This Row],[Heavy Printing Window Start]], NOW()<=tbl_MTG_Set[[#This Row],[Heavy Printing Window End]]) | T6: =_xlfn.xlookup(tbl_MTG_Set[[#This Row],[Type Name]], tbl_MTG_Set_Type[Set Type], tbl_MTG_Set_Type[Sell Window Month Start], "(Set Type not found)", 0, 1) | U6: =tbl_MTG_Set[[#This Row],[Released On]]+tbl_MTG_Set[[#This Row],[Sell Window Month Start]]*365.25/12 | V6: =_xlfn.xlookup(tbl_MTG_Set[[#This Row],[Type Name]], tbl_MTG_Set_Type[Set Type], tbl_MTG_Set_Type[Sell Window Month End], "(Set Type not found)", 0, 1) | W6: =tbl_MTG_Set[[#This Row],[Released On]]+tbl_MTG_Set[[#This Row],[Sell Window Month End]]*365.25/12 | X6: =AND(NOW()>=tbl_MTG_Set[[#This Row],[Sell Window Start]], NOW()<=tbl_MTG_Set[[#This Row],[Sell Window End]]) | AJ6: {=IF(ISERROR(MIN(_xlfn._xlws.filter(tbl_Sourcing[Source Unit Cost], (tbl_Sourcing[Product Id]=tbl_MTG_Set[[#This Row],[Play Booster Box Product Id]])*(tbl_Sourcing[Active]=TRUE())))), "", MIN(_xlfn._xlws.filter(tbl_Sourcing[Source Unit Cost], (tbl_Sourcing[Product Id]=tbl_MTG_Set[[#This Row],[Play Booster Box Product Id]])*(tbl_Sourcing[Active]=TRUE()))))} | AK6: {=IF(ISERROR(INDEX(_xlfn._xlws.filter(tbl_Sourcing[Source Name], (tbl_Sourcing[Product Id]=tbl_MTG_Set[[#This Row],[Play Booster Box Product Id]])*(tbl_Sourcing[Active]=TRUE())*(tbl_Sourcing[Source Unit Cost]=tbl_MTG_Set[[#This Row],[Play Booster Box Cost]])), 1)), "", INDEX(_xlfn._xlws.filter(tbl_Sourcing[Source Name], (tbl_Sourcing[Product Id]=tbl_MTG_Set[[#This Row],[Play Booster Box Product Id]])*(tbl_Sourcing[Active]=TRUE())*(tbl_Sourcing[Source Unit Cost]=tbl_MTG_Set[[#This Row],[Play Booster Box Cost]])), 1))} | AL6: =_xlfn.xlookup(tbl_MTG_Set[[#This Row],[Play Booster Box Product Id]], tbl_Product[Product Id], tbl_Product[Pack Size]) | AM6: =(tbl_MTG_Set[[#This Row],[Play Booster Box Cost]]+v_Item_Shipping_Cost_In)/tbl_MTG_Set[[#This Row],[Play Booster Box Size]] | AT6: =tbl_MTG_Set[[#This Row],[Play Booster Sell Price CardMarket]]*tbl_MTG_Set[[#This Row],[Play Booster Expected Market Value]]/tbl_MTG_Set[[#This Row],[Play Boost Sealed Market Value]]
A7: 431 | B7: 2018 Heroes of the Realm PH18 | C7: 5 | D7: 43678 | F7: en es fr de it pt ja ko ru 汉语 漢語 | G7: 808 | H7: =MONTH(NOW())+12*YEAR(NOW())-MONTH(tbl_MTG_Set[[#This Row],[Released On]])-12*YEAR(tbl_MTG_Set[[#This Row],[Released On]]) | I7: =_xlfn.xlookup(tbl_MTG_Set[[#This Row],[Type Name]], tbl_MTG_Set_Type[Set Type], tbl_MTG_Set_Type[Index], "(Set Type not found)") | J7: =_xlfn.xlookup(tbl_MTG_Set[[#This Row],[Type Name]], tbl_MTG_Set_Type[Set Type], tbl_MTG_Set_Type[Buy Window Month Start], "(Set Type not found)") | K7: =tbl_MTG_Set[[#This Row],[Released On]]+tbl_MTG_Set[[#This Row],[Buy Window Month Start]]*365.25/12 | L7: =_xlfn.xlookup(tbl_MTG_Set[[#This Row],[Type Name]], tbl_MTG_Set_Type[Set Type], tbl_MTG_Set_Type[Buy Window Month End], "(Set Type not found)", 0, 1) | M7: =tbl_MTG_Set[[#This Row],[Released On]]+tbl_MTG_Set[[#This Row],[Buy Window Month End]]*365.25/12 | N7: =AND(NOW()>=tbl_MTG_Set[[#This Row],[Buy Window Start]], NOW()<=tbl_MTG_Set[[#This Row],[Buy Window End]]) | O7: =_xlfn.xlookup(tbl_MTG_Set[[#This Row],[Type Name]], tbl_MTG_Set_Type[Set Type], tbl_MTG_Set_Type[Heavy Printing Window Month Start], "(Set Type not found)", 0, 1) | P7: =tbl_MTG_Set[[#This Row],[Released On]]+tbl_MTG_Set[[#This Row],[Heavy Printing Window Month Start]]*365.25/12 | Q7: =_xlfn.xlookup(tbl_MTG_Set[[#This Row],[Type Name]], tbl_MTG_Set_Type[Set Type], tbl_MTG_Set_Type[Heavy Printing Window Month End], "(Set Type not found)", 0, 1) | R7: =tbl_MTG_Set[[#This Row],[Released On]]+tbl_MTG_Set[[#This Row],[Heavy Printing Window Month End]]*365.25/12 | S7: =AND(NOW()>=tbl_MTG_Set[[#This Row],[Heavy Printing Window Start]], NOW()<=tbl_MTG_Set[[#This Row],[Heavy Printing Window End]]) | T7: =_xlfn.xlookup(tbl_MTG_Set[[#This Row],[Type Name]], tbl_MTG_Set_Type[Set Type], tbl_MTG_Set_Type[Sell Window Month Start], "(Set Type not found)", 0, 1) | U7: =tbl_MTG_Set[[#This Row],[Released On]]+tbl_MTG_Set[[#This Row],[Sell Window Month Start]]*365.25/12 | V7: =_xlfn.xlookup(tbl_MTG_Set[[#This Row],[Type Name]], tbl_MTG_Set_Type[Set Type], tbl_MTG_Set_Type[Sell Window Month End], "(Set Type not found)", 0, 1) | W7: =tbl_MTG_Set[[#This Row],[Released On]]+tbl_MTG_Set[[#This Row],[Sell Window Month End]]*365.25/12 | X7: =AND(NOW()>=tbl_MTG_Set[[#This Row],[Sell Window Start]], NOW()<=tbl_MTG_Set[[#This Row],[Sell Window End]]) | AJ7: {=IF(ISERROR(MIN(_xlfn._xlws.filter(tbl_Sourcing[Source Unit Cost], (tbl_Sourcing[Product Id]=tbl_MTG_Set[[#This Row],[Play Booster Box Product Id]])*(tbl_Sourcing[Active]=TRUE())))), "", MIN(_xlfn._xlws.filter(tbl_Sourcing[Source Unit Cost], (tbl_Sourcing[Product Id]=tbl_MTG_Set[[#This Row],[Play Booster Box Product Id]])*(tbl_Sourcing[Active]=TRUE()))))} | AK7: {=IF(ISERROR(INDEX(_xlfn._xlws.filter(tbl_Sourcing[Source Name], (tbl_Sourcing[Product Id]=tbl_MTG_Set[[#This Row],[Play Booster Box Product Id]])*(tbl_Sourcing[Active]=TRUE())*(tbl_Sourcing[Source Unit Cost]=tbl_MTG_Set[[#This Row],[Play Booster Box Cost]])), 1)), "", INDEX(_xlfn._xlws.filter(tbl_Sourcing[Source Name], (tbl_Sourcing[Product Id]=tbl_MTG_Set[[#This Row],[Play Booster Box Product Id]])*(tbl_Sourcing[Active]=TRUE())*(tbl_Sourcing[Source Unit Cost]=tbl_MTG_Set[[#This Row],[Play Booster Box Cost]])), 1))} | AL7: =_xlfn.xlookup(tbl_MTG_Set[[#This Row],[Play Booster Box Product Id]], tbl_Product[Product Id], tbl_Product[Pack Size]) | AM7: =(tbl_MTG_Set[[#This Row],[Play Booster Box Cost]]+v_Item_Shipping_Cost_In)/tbl_MTG_Set[[#This Row],[Play Booster Box Size]] | AT7: =tbl_MTG_Set[[#This Row],[Play Booster Sell Price CardMarket]]*tbl_MTG_Set[[#This Row],[Play Booster Expected Market Value]]/tbl_MTG_Set[[#This Row],[Play Boost Sealed Market Value]]
A8: 387 | B8: 2019 Heroes of the Realm PH19 | C8: 7 | D8: 44044 | F8: en es fr de it pt ja ko ru 汉语 漢語 | G8: 720 | H8: =MONTH(NOW())+12*YEAR(NOW())-MONTH(tbl_MTG_Set[[#This Row],[Released On]])-12*YEAR(tbl_MTG_Set[[#This Row],[Released On]]) | I8: =_xlfn.xlookup(tbl_MTG_Set[[#This Row],[Type Name]], tbl_MTG_Set_Type[Set Type], tbl_MTG_Set_Type[Index], "(Set Type not found)") | J8: =_xlfn.xlookup(tbl_MTG_Set[[#This Row],[Type Name]], tbl_MTG_Set_Type[Set Type], tbl_MTG_Set_Type[Buy Window Month Start], "(Set Type not found)") | K8: =tbl_MTG_Set[[#This Row],[Released On]]+tbl_MTG_Set[[#This Row],[Buy Window Month Start]]*365.25/12 | L8: =_xlfn.xlookup(tbl_MTG_Set[[#This Row],[Type Name]], tbl_MTG_Set_Type[Set Type], tbl_MTG_Set_Type[Buy Window Month End], "(Set Type not found)", 0, 1) | M8: =tbl_MTG_Set[[#This Row],[Released On]]+tbl_MTG_Set[[#This Row],[Buy Window Month End]]*365.25/12 | N8: =AND(NOW()>=tbl_MTG_Set[[#This Row],[Buy Window Start]], NOW()<=tbl_MTG_Set[[#This Row],[Buy Window End]]) | O8: =_xlfn.xlookup(tbl_MTG_Set[[#This Row],[Type Name]], tbl_MTG_Set_Type[Set Type], tbl_MTG_Set_Type[Heavy Printing Window Month Start], "(Set Type not found)", 0, 1) | P8: =tbl_MTG_Set[[#This Row],[Released On]]+tbl_MTG_Set[[#This Row],[Heavy Printing Window Month Start]]*365.25/12 | Q8: =_xlfn.xlookup(tbl_MTG_Set[[#This Row],[Type Name]], tbl_MTG_Set_Type[Set Type], tbl_MTG_Set_Type[Heavy Printing Window Month End], "(Set Type not found)", 0, 1) | R8: =tbl_MTG_Set[[#This Row],[Released On]]+tbl_MTG_Set[[#This Row],[Heavy Printing Window Month End]]*365.25/12 | S8: =AND(NOW()>=tbl_MTG_Set[[#This Row],[Heavy Printing Window Start]], NOW()<=tbl_MTG_Set[[#This Row],[Heavy Printing Window End]]) | T8: =_xlfn.xlookup(tbl_MTG_Set[[#This Row],[Type Name]], tbl_MTG_Set_Type[Set Type], tbl_MTG_Set_Type[Sell Window Month Start], "(Set Type not found)", 0, 1) | U8: =tbl_MTG_Set[[#This Row],[Released On]]+tbl_MTG_Set[[#This Row],[Sell Window Month Start]]*365.25/12 | V8: =_xlfn.xlookup(tbl_MTG_Set[[#This Row],[Type Name]], tbl_MTG_Set_Type[Set Type], tbl_MTG_Set_Type[Sell Window Month End], "(Set Type not found)", 0, 1) | W8: =tbl_MTG_Set[[#This Row],[Released On]]+tbl_MTG_Set[[#This Row],[Sell Window Month End]]*365.25/12 | X8: =AND(NOW()>=tbl_MTG_Set[[#This Row],[Sell Window Start]], NOW()<=tbl_MTG_Set[[#This Row],[Sell Window End]]) | AJ8: {=IF(ISERROR(MIN(_xlfn._xlws.filter(tbl_Sourcing[Source Unit Cost], (tbl_Sourcing[Product Id]=tbl_MTG_Set[[#This Row],[Play Booster Box Product Id]])*(tbl_Sourcing[Active]=TRUE())))), "", MIN(_xlfn._xlws.filter(tbl_Sourcing[Source Unit Cost], (tbl_Sourcing[Product Id]=tbl_MTG_Set[[#This Row],[Play Booster Box Product Id]])*(tbl_Sourcing[Active]=TRUE()))))} | AK8: {=IF(ISERROR(INDEX(_xlfn._xlws.filter(tbl_Sourcing[Source Name], (tbl_Sourcing[Product Id]=tbl_MTG_Set[[#This Row],[Play Booster Box Product Id]])*(tbl_Sourcing[Active]=TRUE())*(tbl_Sourcing[Source Unit Cost]=tbl_MTG_Set[[#This Row],[Play Booster Box Cost]])), 1)), "", INDEX(_xlfn._xlws.filter(tbl_Sourcing[Source Name], (tbl_Sourcing[Product Id]=tbl_MTG_Set[[#This Row],[Play Booster Box Product Id]])*(tbl_Sourcing[Active]=TRUE())*(tbl_Sourcing[Source Unit Cost]=tbl_MTG_Set[[#This Row],[Play Booster Box Cost]])), 1))} | AL8: =_xlfn.xlookup(tbl_MTG_Set[[#This Row],[Play Booster Box Product Id]], tbl_Product[Product Id], tbl_Product[Pack Size]) | AM8: =(tbl_MTG_Set[[#This Row],[Play Booster Box Cost]]+v_Item_Shipping_Cost_In)/tbl_MTG_Set[[#This Row],[Play Booster Box Size]] | AT8: =tbl_MTG_Set[[#This Row],[Play Booster Sell Price CardMarket]]*tbl_MTG_Set[[#This Row],[Play Booster Expected Market Value]]/tbl_MTG_Set[[#This Row],[Play Boost Sealed Market Value]]
A9: 321 | B9: 2020 Heroes of the Realm PH20 | C9: 3 | D9: 44409 | F9: en es fr de it pt ja ko ru 汉语 漢語 | G9: 588 | H9: =MONTH(NOW())+12*YEAR(NOW())-MONTH(tbl_MTG_Set[[#This Row],[Released On]])-12*YEAR(tbl_MTG_Set[[#This Row],[Released On]]) | I9: =_xlfn.xlookup(tbl_MTG_Set[[#This Row],[Type Name]], tbl_MTG_Set_Type[Set Type], tbl_MTG_Set_Type[Index], "(Set Type not found)") | J9: =_xlfn.xlookup(tbl_MTG_Set[[#This Row],[Type Name]], tbl_MTG_Set_Type[Set Type], tbl_MTG_Set_Type[Buy Window Month Start], "(Set Type not found)") | K9: =tbl_MTG_Set[[#This Row],[Released On]]+tbl_MTG_Set[[#This Row],[Buy Window Month Start]]*365.25/12 | L9: =_xlfn.xlookup(tbl_MTG_Set[[#This Row],[Type Name]], tbl_MTG_Set_Type[Set Type], tbl_MTG_Set_Type[Buy Window Month End], "(Set Type not found)", 0, 1) | M9: =tbl_MTG_Set[[#This Row],[Released On]]+tbl_MTG_Set[[#This Row],[Buy Window Month End]]*365.25/12 | N9: =AND(NOW()>=tbl_MTG_Set[[#This Row],[Buy Window Start]], NOW()<=tbl_MTG_Set[[#This Row],[Buy Window End]]) | O9: =_xlfn.xlookup(tbl_MTG_Set[[#This Row],[Type Name]], tbl_MTG_Set_Type[Set Type], tbl_MTG_Set_Type[Heavy Printing Window Month Start], "(Set Type not found)", 0, 1) | P9: =tbl_MTG_Set[[#This Row],[Released On]]+tbl_MTG_Set[[#This Row],[Heavy Printing Window Month Start]]*365.25/12 | Q9: =_xlfn.xlookup(tbl_MTG_Set[[#This Row],[Type Name]], tbl_MTG_Set_Type[Set Type], tbl_MTG_Set_Type[Heavy Printing Window Month End], "(Set Type not found)", 0, 1) | R9: =tbl_MTG_Set[[#This Row],[Released On]]+tbl_MTG_Set[[#This Row],[Heavy Printing Window Month End]]*365.25/12 | S9: =AND(NOW()>=tbl_MTG_Set[[#This Row],[Heavy Printing Window Start]], NOW()<=tbl_MTG_Set[[#This Row],[Heavy Printing Window End]]) | T9: =_xlfn.xlookup(tbl_MTG_Set[[#This Row],[Type Name]], tbl_MTG_Set_Type[Set Type], tbl_MTG_Set_Type[Sell Window Month Start], "(Set Type not found)", 0, 1) | U9: =tbl_MTG_Set[[#This Row],[Released On]]+tbl_MTG_Set[[#This Row],[Sell Window Month Start]]*365.25/12 | V9: =_xlfn.xlookup(tbl_MTG_Set[[#This Row],[Type Name]], tbl_MTG_Set_Type[Set Type], tbl_MTG_Set_Type[Sell Window Month End], "(Set Type not found)", 0, 1) | W9: =tbl_MTG_Set[[#This Row],[Released On]]+tbl_MTG_Set[[#This Row],[Sell Window Month End]]*365.25/12 | X9: =AND(NOW()>=tbl_MTG_Set[[#This Row],[Sell Window Start]], NOW()<=tbl_MTG_Set[[#This Row],[Sell Window End]]) | AJ9: {=IF(ISERROR(MIN(_xlfn._xlws.filter(tbl_Sourcing[Source Unit Cost], (tbl_Sourcing[Product Id]=tbl_MTG_Set[[#This Row],[Play Booster Box Product Id]])*(tbl_Sourcing[Active]=TRUE())))), "", MIN(_xlfn._xlws.filter(tbl_Sourcing[Source Unit Cost], (tbl_Sourcing[Product Id]=tbl_MTG_Set[[#This Row],[Play Booster Box Product Id]])*(tbl_Sourcing[Active]=TRUE()))))} | AK9: {=IF(ISERROR(INDEX(_xlfn._xlws.filter(tbl_Sourcing[Source Name], (tbl_Sourcing[Product Id]=tbl_MTG_Set[[#This Row],[Play Booster Box Product Id]])*(tbl_Sourcing[Active]=TRUE())*(tbl_Sourcing[Source Unit Cost]=tbl_MTG_Set[[#This Row],[Play Booster Box Cost]])), 1)), "", INDEX(_xlfn._xlws.filter(tbl_Sourcing[Source Name], (tbl_Sourcing[Product Id]=tbl_MTG_Set[[#This Row],[Play Booster Box Product Id]])*(tbl_Sourcing[Active]=TRUE())*(tbl_Sourcing[Source Unit Cost]=tbl_MTG_Set[[#This Row],[Play Booster Box Cost]])), 1))} | AL9: =_xlfn.xlookup(tbl_MTG_Set[[#This Row],[Play Booster Box Product Id]], tbl_Product[Product Id], tbl_Product[Pack Size]) | AM9: =(tbl_MTG_Set[[#This Row],[Play Booster Box Cost]]+v_Item_Shipping_Cost_In)/tbl_MTG_Set[[#This Row],[Play Booster Box Size]] | AT9: =tbl_MTG_Set[[#This Row],[Play Booster Sell Price CardMarket]]*tbl_MTG_Set[[#This Row],[Play Booster Expected Market Value]]/tbl_MTG_Set[[#This Row],[Play Boost Sealed Market Value]]
A10: 259 | B10: 2021 Heroes of the Realm PH21 | C10: 4 | D10: 44774 | F10: en es fr de it pt ja ko ru 汉语 漢語 | G10: 464 | H10: =MONTH(NOW())+12*YEAR(NOW())-MONTH(tbl_MTG_Set[[#This Row],[Released On]])-12*YEAR(tbl_MTG_Set[[#This Row],[Released On]]) | I10: =_xlfn.xlookup(tbl_MTG_Set[[#This Row],[Type Name]], tbl_MTG_Set_Type[Set Type], tbl_MTG_Set_Type[Index], "(Set Type not found)") | J10: =_xlfn.xlookup(tbl_MTG_Set[[#This Row],[Type Name]], tbl_MTG_Set_Type[Set Type], tbl_MTG_Set_Type[Buy Window Month Start], "(Set Type not found)") | K10: =tbl_MTG_Set[[#This Row],[Released On]]+tbl_MTG_Set[[#This Row],[Buy Window Month Start]]*365.25/12 | L10: =_xlfn.xlookup(tbl_MTG_Set[[#This Row],[Type Name]], tbl_MTG_Set_Type[Set Type], tbl_MTG_Set_Type[Buy Window Month End], "(Set Type not found)", 0, 1) | M10: =tbl_MTG_Set[[#This Row],[Released On]]+tbl_MTG_Set[[#This Row],[Buy Window Month End]]*365.25/12 | N10: =AND(NOW()>=tbl_MTG_Set[[#This Row],[Buy Window Start]], NOW()<=tbl_MTG_Set[[#This Row],[Buy Window End]]) | O10: =_xlfn.xlookup(tbl_MTG_Set[[#This Row],[Type Name]], tbl_MTG_Set_Type[Set Type], tbl_MTG_Set_Type[Heavy Printing Window Month Start], "(Set Type not found)", 0, 1) | P10: =tbl_MTG_Set[[#This Row],[Released On]]+tbl_MTG_Set[[#This Row],[Heavy Printing Window Month Start]]*365.25/12 | Q10: =_xlfn.xlookup(tbl_MTG_Set[[#This Row],[Type Name]], tbl_MTG_Set_Type[Set Type], tbl_MTG_Set_Type[Heavy Printing Window Month End], "(Set Type not found)", 0, 1) | R10: =tbl_MTG_Set[[#This Row],[Released On]]+tbl_MTG_Set[[#This Row],[Heavy Printing Window Month End]]*365.25/12 | S10: =AND(NOW()>=tbl_MTG_Set[[#This Row],[Heavy Printing Window Start]], NOW()<=tbl_MTG_Set[[#This Row],[Heavy Printing Window End]]) | T10: =_xlfn.xlookup(tbl_MTG_Set[[#This Row],[Type Name]], tbl_MTG_Set_Type[Set Type], tbl_MTG_Set_Type[Sell Window Month Start], "(Set Type not found)", 0, 1) | U10: =tbl_MTG_Set[[#This Row],[Released On]]+tbl_MTG_Set[[#This Row],[Sell Window Month Start]]*365.25/12 | V10: =_xlfn.xlookup(tbl_MTG_Set[[#This Row],[Type Name]], tbl_MTG_Set_Type[Set Type], tbl_MTG_Set_Type[Sell Window Month End], "(Set Type not found)", 0, 1) | W10: =tbl_MTG_Set[[#This Row],[Released On]]+tbl_MTG_Set[[#This Row],[Sell Window Month End]]*365.25/12 | X10: =AND(NOW()>=tbl_MTG_Set[[#This Row],[Sell Window Start]], NOW()<=tbl_MTG_Set[[#This Row],[Sell Window End]]) | AJ10: {=IF(ISERROR(MIN(_xlfn._xlws.filter(tbl_Sourcing[Source Unit Cost], (tbl_Sourcing[Product Id]=tbl_MTG_Set[[#This Row],[Play Booster Box Product Id]])*(tbl_Sourcing[Active]=TRUE())))), "", MIN(_xlfn._xlws.filter(tbl_Sourcing[Source Unit Cost], (tbl_Sourcing[Product Id]=tbl_MTG_Set[[#This Row],[Play Booster Box Product Id]])*(tbl_Sourcing[Active]=TRUE()))))} | AK10: {=IF(ISERROR(INDEX(_xlfn._xlws.filter(tbl_Sourcing[Source Name], (tbl_Sourcing[Product Id]=tbl_MTG_Set[[#This Row],[Play Booster Box Product Id]])*(tbl_Sourcing[Active]=TRUE())*(tbl_Sourcing[Source Unit Cost]=tbl_MTG_Set[[#This Row],[Play Booster Box Cost]])), 1)), "", INDEX(_xlfn._xlws.filter(tbl_Sourcing[Source Name], (tbl_Sourcing[Product Id]=tbl_MTG_Set[[#This Row],[Play Booster Box Product Id]])*(tbl_Sourcing[Active]=TRUE())*(tbl_Sourcing[Source Unit Cost]=tbl_MTG_Set[[#This Row],[Play Booster Box Cost]])), 1))} | AL10: =_xlfn.xlookup(tbl_MTG_Set[[#This Row],[Play Booster Box Product Id]], tbl_Product[Product Id], tbl_Product[Pack Size]) | AM10: =(tbl_MTG_Set[[#This Row],[Play Booster Box Cost]]+v_Item_Shipping_Cost_In)/tbl_MTG_Set[[#This Row],[Play Booster Box Size]] | AT10: =tbl_MTG_Set[[#This Row],[Play Booster Sell Price CardMarket]]*tbl_MTG_Set[[#This Row],[Play Booster Expected Market Value]]/tbl_MTG_Set[[#This Row],[Play Boost Sealed Market Value]]
A11: 166 | B11: 2022 Heroes of the Realm PH22 | C11: 5 | D11: 45139 | F11: en es fr de it pt ja ko ru 汉语 漢語 | G11: 278 | H11: =MONTH(NOW())+12*YEAR(NOW())-MONTH(tbl_MTG_Set[[#This Row],[Released On]])-12*YEAR(tbl_MTG_Set[[#This Row],[Released On]]) | I11: =_xlfn.xlookup(tbl_MTG_Set[[#This Row],[Type Name]], tbl_MTG_Set_Type[Set Type], tbl_MTG_Set_Type[Index], "(Set Type not found)") | J11: =_xlfn.xlookup(tbl_MTG_Set[[#This Row],[Type Name]], tbl_MTG_Set_Type[Set Type], tbl_MTG_Set_Type[Buy Window Month Start], "(Set Type not found)") | K11: =tbl_MTG_Set[[#This Row],[Released On]]+tbl_MTG_Set[[#This Row],[Buy Window Month Start]]*365.25/12 | L11: =_xlfn.xlookup(tbl_MTG_Set[[#This Row],[Type Name]], tbl_MTG_Set_Type[Set Type], tbl_MTG_Set_Type[Buy Window Month End], "(Set Type not found)", 0, 1) | M11: =tbl_MTG_Set[[#This Row],[Released On]]+tbl_MTG_Set[[#This Row],[Buy Window Month End]]*365.25/12 | N11: =AND(NOW()>=tbl_MTG_Set[[#This Row],[Buy Window Start]], NOW()<=tbl_MTG_Set[[#This Row],[Buy Window End]]) | O11: =_xlfn.xlookup(tbl_MTG_Set[[#This Row],[Type Name]], tbl_MTG_Set_Type[Set Type], tbl_MTG_Set_Type[Heavy Printing Window Month Start], "(Set Type not found)", 0, 1) | P11: =tbl_MTG_Set[[#This Row],[Released On]]+tbl_MTG_Set[[#This Row],[Heavy Printing Window Month Start]]*365.25/12 | Q11: =_xlfn.xlookup(tbl_MTG_Set[[#This Row],[Type Name]], tbl_MTG_Set_Type[Set Type], tbl_MTG_Set_Type[Heavy Printing Window Month End], "(Set Type not found)", 0, 1) | R11: =tbl_MTG_Set[[#This Row],[Released On]]+tbl_MTG_Set[[#This Row],[Heavy Printing Window Month End]]*365.25/12 | S11: =AND(NOW()>=tbl_MTG_Set[[#This Row],[Heavy Printing Window Start]], NOW()<=tbl_MTG_Set[[#This Row],[Heavy Printing Window End]]) | T11: =_xlfn.xlookup(tbl_MTG_Set[[#This Row],[Type Name]], tbl_MTG_Set_Type[Set Type], tbl_MTG_Set_Type[Sell Window Month Start], "(Set Type not found)", 0, 1) | U11: =tbl_MTG_Set[[#This Row],[Released On]]+tbl_MTG_Set[[#This Row],[Sell Window Month Start]]*365.25/12 | V11: =_xlfn.xlookup(tbl_MTG_Set[[#This Row],[Type Name]], tbl_MTG_Set_Type[Set Type], tbl_MTG_Set_Type[Sell Window Month End], "(Set Type not found)", 0, 1) | W11: =tbl_MTG_Set[[#This Row],[Released On]]+tbl_MTG_Set[[#This Row],[Sell Window Month End]]*365.25/12 | X11: =AND(NOW()>=tbl_MTG_Set[[#This Row],[Sell Window Start]], NOW()<=tbl_MTG_Set[[#This Row],[Sell Window End]]) | AJ11: {=IF(ISERROR(MIN(_xlfn._xlws.filter(tbl_Sourcing[Source Unit Cost], (tbl_Sourcing[Product Id]=tbl_MTG_Set[[#This Row],[Play Booster Box Product Id]])*(tbl_Sourcing[Active]=TRUE())))), "", MIN(_xlfn._xlws.filter(tbl_Sourcing[Source Unit Cost], (tbl_Sourcing[Product Id]=tbl_MTG_Set[[#This Row],[Play Booster Box Product Id]])*(tbl_Sourcing[Active]=TRUE()))))} | AK11: {=IF(ISERROR(INDEX(_xlfn._xlws.filter(tbl_Sourcing[Source Name], (tbl_Sourcing[Product Id]=tbl_MTG_Set[[#This Row],[Play Booster Box Product Id]])*(tbl_Sourcing[Active]=TRUE())*(tbl_Sourcing[Source Unit Cost]=tbl_MTG_Set[[#This Row],[Play Booster Box Cost]])), 1)), "", INDEX(_xlfn._xlws.filter(tbl_Sourcing[Source Name], (tbl_Sourcing[Product Id]=tbl_MTG_Set[[#This Row],[Play Booster Box Product Id]])*(tbl_Sourcing[Active]=TRUE())*(tbl_Sourcing[Source Unit Cost]=tbl_MTG_Set[[#This Row],[Play Booster Box Cost]])), 1))} | AL11: =_xlfn.xlookup(tbl_MTG_Set[[#This Row],[Play Booster Box Product Id]], tbl_Product[Product Id], tbl_Product[Pack Size]) | AM11: =(tbl_MTG_Set[[#This Row],[Play Booster Box Cost]]+v_Item_Shipping_Cost_In)/tbl_MTG_Set[[#This Row],[Play Booster Box Size]] | AT11: =tbl_MTG_Set[[#This Row],[Play Booster Sell Price CardMarket]]*tbl_MTG_Set[[#This Row],[Play Booster Expected Market Value]]/tbl_MTG_Set[[#This Row],[Play Boost Sealed Market Value]]
A12: 27 | B12: 2023 Heroes of the Realm PH23 | C12: 1 | D12: 45893 | F12: en es fr de it pt ja ko ru 汉语 漢語 | G12: 28 | H12: =MONTH(NOW())+12*YEAR(NOW())-MONTH(tbl_MTG_Set[[#This Row],[Released On]])-12*YEAR(tbl_MTG_Set[[#This Row],[Released On]]) | I12: =_xlfn.xlookup(tbl_MTG_Set[[#This Row],[Type Name]], tbl_MTG_Set_Type[Set Type], tbl_MTG_Set_Type[Index], "(Set Type not found)") | J12: =_xlfn.xlookup(tbl_MTG_Set[[#This Row],[Type Name]], tbl_MTG_Set_Type[Set Type], tbl_MTG_Set_Type[Buy Window Month Start], "(Set Type not found)") | K12: =tbl_MTG_Set[[#This Row],[Released On]]+tbl_MTG_Set[[#This Row],[Buy Window Month Start]]*365.25/12 | L12: =_xlfn.xlookup(tbl_MTG_Set[[#This Row],[Type Name]], tbl_MTG_Set_Type[Set Type], tbl_MTG_Set_Type[Buy Window Month End], "(Set Type not found)", 0, 1) | M12: =tbl_MTG_Set[[#This Row],[Released On]]+tbl_MTG_Set[[#This Row],[Buy Window Month End]]*365.25/12 | N12: =AND(NOW()>=tbl_MTG_Set[[#This Row],[Buy Window Start]], NOW()<=tbl_MTG_Set[[#This Row],[Buy Window End]]) | O12: =_xlfn.xlookup(tbl_MTG_Set[[#This Row],[Type Name]], tbl_MTG_Set_Type[Set Type], tbl_MTG_Set_Type[Heavy Printing Window Month Start], "(Set Type not found)", 0, 1) | P12: =tbl_MTG_Set[[#This Row],[Released On]]+tbl_MTG_Set[[#This Row],[Heavy Printing Window Month Start]]*365.25/12 | Q12: =_xlfn.xlookup(tbl_MTG_Set[[#This Row],[Type Name]], tbl_MTG_Set_Type[Set Type], tbl_MTG_Set_Type[Heavy Printing Window Month End], "(Set Type not found)", 0, 1) | R12: =tbl_MTG_Set[[#This Row],[Released On]]+tbl_MTG_Set[[#This Row],[Heavy Printing Window Month End]]*365.25/12 | S12: =AND(NOW()>=tbl_MTG_Set[[#This Row],[Heavy Printing Window Start]], NOW()<=tbl_MTG_Set[[#This Row],[Heavy Printing Window End]]) | T12: =_xlfn.xlookup(tbl_MTG_Set[[#This Row],[Type Name]], tbl_MTG_Set_Type[Set Type], tbl_MTG_Set_Type[Sell Window Month Start], "(Set Type not found)", 0, 1) | U12: =tbl_MTG_Set[[#This Row],[Released On]]+tbl_MTG_Set[[#This Row],[Sell Window Month Start]]*365.25/12 | V12: =_xlfn.xlookup(tbl_MTG_Set[[#This Row],[Type Name]], tbl_MTG_Set_Type[Set Type], tbl_MTG_Set_Type[Sell Window Month End], "(Set Type not found)", 0, 1) | W12: =tbl_MTG_Set[[#This Row],[Released On]]+tbl_MTG_Set[[#This Row],[Sell Window Month End]]*365.25/12 | X12: =AND(NOW()>=tbl_MTG_Set[[#This Row],[Sell Window Start]], NOW()<=tbl_MTG_Set[[#This Row],[Sell Window End]]) | AJ12: {=IF(ISERROR(MIN(_xlfn._xlws.filter(tbl_Sourcing[Source Unit Cost], (tbl_Sourcing[Product Id]=tbl_MTG_Set[[#This Row],[Play Booster Box Product Id]])*(tbl_Sourcing[Active]=TRUE())))), "", MIN(_xlfn._xlws.filter(tbl_Sourcing[Source Unit Cost], (tbl_Sourcing[Product Id]=tbl_MTG_Set[[#This Row],[Play Booster Box Product Id]])*(tbl_Sourcing[Active]=TRUE()))))} | AK12: {=IF(ISERROR(INDEX(_xlfn._xlws.filter(tbl_Sourcing[Source Name], (tbl_Sourcing[Product Id]=tbl_MTG_Set[[#This Row],[Play Booster Box Product Id]])*(tbl_Sourcing[Active]=TRUE())*(tbl_Sourcing[Source Unit Cost]=tbl_MTG_Set[[#This Row],[Play Booster Box Cost]])), 1)), "", INDEX(_xlfn._xlws.filter(tbl_Sourcing[Source Name], (tbl_Sourcing[Product Id]=tbl_MTG_Set[[#This Row],[Play Booster Box Product Id]])*(tbl_Sourcing[Active]=TRUE())*(tbl_Sourcing[Source Unit Cost]=tbl_MTG_Set[[#This Row],[Play Booster Box Cost]])), 1))} | AL12: =_xlfn.xlookup(tbl_MTG_Set[[#This Row],[Play Booster Box Product Id]], tbl_Product[Product Id], tbl_Product[Pack Size]) | AM12: =(tbl_MTG_Set[[#This Row],[Play Booster Box Cost]]+v_Item_Shipping_Cost_In)/tbl_MTG_Set[[#This Row],[Play Booster Box Size]] | AT12: =tbl_MTG_Set[[#This Row],[Play Booster Sell Price CardMarket]]*tbl_MTG_Set[[#This Row],[Play Booster Expected Market Value]]/tbl_MTG_Set[[#This Row],[Play Boost Sealed Market Value]]
A13: 221 | B13: 30th Anniversary Celebration Tokyo P30T | C13: 2 | D13: 45170 | F13: en es fr de it pt ja ko ru 汉语 漢語 | G13: 388 | H13: =MONTH(NOW())+12*YEAR(NOW())-MONTH(tbl_MTG_Set[[#This Row],[Released On]])-12*YEAR(tbl_MTG_Set[[#This Row],[Released On]]) | I13: =_xlfn.xlookup(tbl_MTG_Set[[#This Row],[Type Name]], tbl_MTG_Set_Type[Set Type], tbl_MTG_Set_Type[Index], "(Set Type not found)") | J13: =_xlfn.xlookup(tbl_MTG_Set[[#This Row],[Type Name]], tbl_MTG_Set_Type[Set Type], tbl_MTG_Set_Type[Buy Window Month Start], "(Set Type not found)") | K13: =tbl_MTG_Set[[#This Row],[Released On]]+tbl_MTG_Set[[#This Row],[Buy Window Month Start]]*365.25/12 | L13: =_xlfn.xlookup(tbl_MTG_Set[[#This Row],[Type Name]], tbl_MTG_Set_Type[Set Type], tbl_MTG_Set_Type[Buy Window Month End], "(Set Type not found)", 0, 1) | M13: =tbl_MTG_Set[[#This Row],[Released On]]+tbl_MTG_Set[[#This Row],[Buy Window Month End]]*365.25/12 | N13: =AND(NOW()>=tbl_MTG_Set[[#This Row],[Buy Window Start]], NOW()<=tbl_MTG_Set[[#This Row],[Buy Window End]]) | O13: =_xlfn.xlookup(tbl_MTG_Set[[#This Row],[Type Name]], tbl_MTG_Set_Type[Set Type], tbl_MTG_Set_Type[Heavy Printing Window Month Start], "(Set Type not found)", 0, 1) | P13: =tbl_MTG_Set[[#This Row],[Released On]]+tbl_MTG_Set[[#This Row],[Heavy Printing Window Month Start]]*365.25/12 | Q13: =_xlfn.xlookup(tbl_MTG_Set[[#This Row],[Type Name]], tbl_MTG_Set_Type[Set Type], tbl_MTG_Set_Type[Heavy Printing Window Month End], "(Set Type not found)", 0, 1) | R13: =tbl_MTG_Set[[#This Row],[Released On]]+tbl_MTG_Set[[#This Row],[Heavy Printing Window Month End]]*365.25/12 | S13: =AND(NOW()>=tbl_MTG_Set[[#This Row],[Heavy Printing Window Start]], NOW()<=tbl_MTG_Set[[#This Row],[Heavy Printing Window End]]) | T13: =_xlfn.xlookup(tbl_MTG_Set[[#This Row],[Type Name]], tbl_MTG_Set_Type[Set Type], tbl_MTG_Set_Type[Sell Window Month Start], "(Set Type not found)", 0, 1) | U13: =tbl_MTG_Set[[#This Row],[Released On]]+tbl_MTG_Set[[#This Row],[Sell Window Month Start]]*365.25/12 | V13: =_xlfn.xlookup(tbl_MTG_Set[[#This Row],[Type Name]], tbl_MTG_Set_Type[Set Type], tbl_MTG_Set_Type[Sell Window Month End], "(Set Type not found)", 0, 1) | W13: =tbl_MTG_Set[[#This Row],[Released On]]+tbl_MTG_Set[[#This Row],[Sell Window Month End]]*365.25/12 | X13: =AND(NOW()>=tbl_MTG_Set[[#This Row],[Sell Window Start]], NOW()<=tbl_MTG_Set[[#This Row],[Sell Window End]]) | AJ13: {=IF(ISERROR(MIN(_xlfn._xlws.filter(tbl_Sourcing[Source Unit Cost], (tbl_Sourcing[Product Id]=tbl_MTG_Set[[#This Row],[Play Booster Box Product Id]])*(tbl_Sourcing[Active]=TRUE())))), "", MIN(_xlfn._xlws.filter(tbl_Sourcing[Source Unit Cost], (tbl_Sourcing[Product Id]=tbl_MTG_Set[[#This Row],[Play Booster Box Product Id]])*(tbl_Sourcing[Active]=TRUE()))))} | AK13: {=IF(ISERROR(INDEX(_xlfn._xlws.filter(tbl_Sourcing[Source Name], (tbl_Sourcing[Product Id]=tbl_MTG_Set[[#This Row],[Play Booster Box Product Id]])*(tbl_Sourcing[Active]=TRUE())*(tbl_Sourcing[Source Unit Cost]=tbl_MTG_Set[[#This Row],[Play Booster Box Cost]])), 1)), "", INDEX(_xlfn._xlws.filter(tbl_Sourcing[Source Name], (tbl_Sourcing[Product Id]=tbl_MTG_Set[[#This Row],[Play Booster Box Product Id]])*(tbl_Sourcing[Active]=TRUE())*(tbl_Sourcing[Source Unit Cost]=tbl_MTG_Set[[#This Row],[Play Booster Box Cost]])), 1))} | AL13: =_xlfn.xlookup(tbl_MTG_Set[[#This Row],[Play Booster Box Product Id]], tbl_Product[Product Id], tbl_Product[Pack Size]) | AM13: =(tbl_MTG_Set[[#This Row],[Play Booster Box Cost]]+v_Item_Shipping_Cost_In)/tbl_MTG_Set[[#This Row],[Play Booster Box Size]] | AT13: =tbl_MTG_Set[[#This Row],[Play Booster Sell Price CardMarket]]*tbl_MTG_Set[[#This Row],[Play Booster Expected Market Value]]/tbl_MTG_Set[[#This Row],[Play Boost Sealed Market Value]]
A14: 218 | B14: 30th Anniversary Edition 30A | C14: 594 | D14: 44893 | F14: en es fr de it pt ja ko ru 汉语 漢語 | G14: 382 | H14: =MONTH(NOW())+12*YEAR(NOW())-MONTH(tbl_MTG_Set[[#This Row],[Released On]])-12*YEAR(tbl_MTG_Set[[#This Row],[Released On]]) | I14: =_xlfn.xlookup(tbl_MTG_Set[[#This Row],[Type Name]], tbl_MTG_Set_Type[Set Type], tbl_MTG_Set_Type[Index], "(Set Type not found)") | J14: =_xlfn.xlookup(tbl_MTG_Set[[#This Row],[Type Name]], tbl_MTG_Set_Type[Set Type], tbl_MTG_Set_Type[Buy Window Month Start], "(Set Type not found)") | K14: =tbl_MTG_Set[[#This Row],[Released On]]+tbl_MTG_Set[[#This Row],[Buy Window Month Start]]*365.25/12 | L14: =_xlfn.xlookup(tbl_MTG_Set[[#This Row],[Type Name]], tbl_MTG_Set_Type[Set Type], tbl_MTG_Set_Type[Buy Window Month End], "(Set Type not found)", 0, 1) | M14: =tbl_MTG_Set[[#This Row],[Released On]]+tbl_MTG_Set[[#This Row],[Buy Window Month End]]*365.25/12 | N14: =AND(NOW()>=tbl_MTG_Set[[#This Row],[Buy Window Start]], NOW()<=tbl_MTG_Set[[#This Row],[Buy Window End]]) | O14: =_xlfn.xlookup(tbl_MTG_Set[[#This Row],[Type Name]], tbl_MTG_Set_Type[Set Type], tbl_MTG_Set_Type[Heavy Printing Window Month Start], "(Set Type not found)", 0, 1) | P14: =tbl_MTG_Set[[#This Row],[Released On]]+tbl_MTG_Set[[#This Row],[Heavy Printing Window Month Start]]*365.25/12 | Q14: =_xlfn.xlookup(tbl_MTG_Set[[#This Row],[Type Name]], tbl_MTG_Set_Type[Set Type], tbl_MTG_Set_Type[Heavy Printing Window Month End], "(Set Type not found)", 0, 1) | R14: =tbl_MTG_Set[[#This Row],[Released On]]+tbl_MTG_Set[[#This Row],[Heavy Printing Window Month End]]*365.25/12 | S14: =AND(NOW()>=tbl_MTG_Set[[#This Row],[Heavy Printing Window Start]], NOW()<=tbl_MTG_Set[[#This Row],[Heavy Printing Window End]]) | T14: =_xlfn.xlookup(tbl_MTG_Set[[#This Row],[Type Name]], tbl_MTG_Set_Type[Set Type], tbl_MTG_Set_Type[Sell Window Month Start], "(Set Type not found)", 0, 1) | U14: =tbl_MTG_Set[[#This Row],[Released On]]+tbl_MTG_Set[[#This Row],[Sell Window Month Start]]*365.25/12 | V14: =_xlfn.xlookup(tbl_MTG_Set[[#This Row],[Type Name]], tbl_MTG_Set_Type[Set Type], tbl_MTG_Set_Type[Sell Window Month End], "(Set Type not found)", 0, 1) | W14: =tbl_MTG_Set[[#This Row],[Released On]]+tbl_MTG_Set[[#This Row],[Sell Window Month End]]*365.25/12 | X14: =AND(NOW()>=tbl_MTG_Set[[#This Row],[Sell Window Start]], NOW()<=tbl_MTG_Set[[#This Row],[Sell Window End]]) | AJ14: {=IF(ISERROR(MIN(_xlfn._xlws.filter(tbl_Sourcing[Source Unit Cost], (tbl_Sourcing[Product Id]=tbl_MTG_Set[[#This Row],[Play Booster Box Product Id]])*(tbl_Sourcing[Active]=TRUE())))), "", MIN(_xlfn._xlws.filter(tbl_Sourcing[Source Unit Cost], (tbl_Sourcing[Product Id]=tbl_MTG_Set[[#This Row],[Play Booster Box Product Id]])*(tbl_Sourcing[Active]=TRUE()))))} | AK14: {=IF(ISERROR(INDEX(_xlfn._xlws.filter(tbl_Sourcing[Source Name], (tbl_Sourcing[Product Id]=tbl_MTG_Set[[#This Row],[Play Booster Box Product Id]])*(tbl_Sourcing[Active]=TRUE())*(tbl_Sourcing[Source Unit Cost]=tbl_MTG_Set[[#This Row],[Play Booster Box Cost]])), 1)), "", INDEX(_xlfn._xlws.filter(tbl_Sourcing[Source Name], (tbl_Sourcing[Product Id]=tbl_MTG_Set[[#This Row],[Play Booster Box Product Id]])*(tbl_Sourcing[Active]=TRUE())*(tbl_Sourcing[Source Unit Cost]=tbl_MTG_Set[[#This Row],[Play Booster Box Cost]])), 1))} | AL14: =_xlfn.xlookup(tbl_MTG_Set[[#This Row],[Play Booster Box Product Id]], tbl_Product[Product Id], tbl_Product[Pack Size]) | AM14: =(tbl_MTG_Set[[#This Row],[Play Booster Box Cost]]+v_Item_Shipping_Cost_In)/tbl_MTG_Set[[#This Row],[Play Booster Box Size]] | AT14: =tbl_MTG_Set[[#This Row],[Play Booster Sell Price CardMarket]]*tbl_MTG_Set[[#This Row],[Play Booster Expected Market Value]]/tbl_MTG_Set[[#This Row],[Play Boost Sealed Market Value]]
... A26: 545 | B26: Aether Revolt Tokens TAER | C26: 4 | D26: 42755 | F26: en es fr de it pt ja ko ru 汉语 漢語 | G26: 1036 | H26: =MONTH(NOW())+12*YEAR(NOW())-MONTH(tbl_MTG_Set[[#This Row],[Released On]])-12*YEAR(tbl_MTG_Set[[#This Row],[Released On]]) | I26: =_xlfn.xlookup(tbl_MTG_Set[[#This Row],[Type Name]], tbl_MTG_Set_Type[Set Type], tbl_MTG_Set_Type[Index], "(Set Type not found)") | J26: =_xlfn.xlookup(tbl_MTG_Set[[#This Row],[Type Name]], tbl_MTG_Set_Type[Set Type], tbl_MTG_Set_Type[Buy Window Month Start], "(Set Type not found)") | K26: =tbl_MTG_Set[[#This Row],[Released On]]+tbl_MTG_Set[[#This Row],[Buy Window Month Start]]*365.25/12 | L26: =_xlfn.xlookup(tbl_MTG_Set[[#This Row],[Type Name]], tbl_MTG_Set_Type[Set Type], tbl_MTG_Set_Type[Buy Window Month End], "(Set Type not found)", 0, 1) | M26: =tbl_MTG_Set[[#This Row],[Released On]]+tbl_MTG_Set[[#This Row],[Buy Window Month End]]*365.25/12 | N26: =AND(NOW()>=tbl_MTG_Set[[#This Row],[Buy Window Start]], NOW()<=tbl_MTG_Set[[#This Row],[Buy Window End]]) | O26: =_xlfn.xlookup(tbl_MTG_Set[[#This Row],[Type Name]], tbl_MTG_Set_Type[Set Type], tbl_MTG_Set_Type[Heavy Printing Window Month Start], "(Set Type not found)", 0, 1) | P26: =tbl_MTG_Set[[#This Row],[Released On]]+tbl_MTG_Set[[#This Row],[Heavy Printing Window Month Start]]*365.25/12 | Q26: =_xlfn.xlookup(tbl_MTG_Set[[#This Row],[Type Name]], tbl_MTG_Set_Type[Set Type], tbl_MTG_Set_Type[Heavy Printing Window Month End], "(Set Type not found)", 0, 1) | R26: =tbl_MTG_Set[[#This Row],[Released On]]+tbl_MTG_Set[[#This Row],[Heavy Printing Window Month End]]*365.25/12 | S26: =AND(NOW()>=tbl_MTG_Set[[#This Row],[Heavy Printing Window Start]], NOW()<=tbl_MTG_Set[[#This Row],[Heavy Printing Window End]]) | T26: =_xlfn.xlookup(tbl_MTG_Set[[#This Row],[Type Name]], tbl_MTG_Set_Type[Set Type], tbl_MTG_Set_Type[Sell Window Month Start], "(Set Type not found)", 0, 1) | U26: =tbl_MTG_Set[[#This Row],[Released On]]+tbl_MTG_Set[[#This Row],[Sell Window Month Start]]*365.25/12 | V26: =_xlfn.xlookup(tbl_MTG_Set[[#This Row],[Type Name]], tbl_MTG_Set_Type[Set Type], tbl_MTG_Set_Type[Sell Window Month End], "(Set Type not found)", 0, 1) | W26: =tbl_MTG_Set[[#This Row],[Released On]]+tbl_MTG_Set[[#This Row],[Sell Window Month End]]*365.25/12 | X26: =AND(NOW()>=tbl_MTG_Set[[#This Row],[Sell Window Start]], NOW()<=tbl_MTG_Set[[#This Row],[Sell Window End]]) | AJ26: {=IF(ISERROR(MIN(_xlfn._xlws.filter(tbl_Sourcing[Source Unit Cost], (tbl_Sourcing[Product Id]=tbl_MTG_Set[[#This Row],[Play Booster Box Product Id]])*(tbl_Sourcing[Active]=TRUE())))), "", MIN(_xlfn._xlws.filter(tbl_Sourcing[Source Unit Cost], (tbl_Sourcing[Product Id]=tbl_MTG_Set[[#This Row],[Play Booster Box Product Id]])*(tbl_Sourcing[Active]=TRUE()))))} | AK26: {=IF(ISERROR(INDEX(_xlfn._xlws.filter(tbl_Sourcing[Source Name], (tbl_Sourcing[Product Id]=tbl_MTG_Set[[#This Row],[Play Booster Box Product Id]])*(tbl_Sourcing[Active]=TRUE())*(tbl_Sourcing[Source Unit Cost]=tbl_MTG_Set[[#This Row],[Play Booster Box Cost]])), 1)), "", INDEX(_xlfn._xlws.filter(tbl_Sourcing[Source Name], (tbl_Sourcing[Product Id]=tbl_MTG_Set[[#This Row],[Play Booster Box Product Id]])*(tbl_Sourcing[Active]=TRUE())*(tbl_Sourcing[Source Unit Cost]=tbl_MTG_Set[[#This Row],[Play Booster Box Cost]])), 1))} | AL26: =_xlfn.xlookup(tbl_MTG_Set[[#This Row],[Play Booster Box Product Id]], tbl_Product[Product Id], tbl_Product[Pack Size]) | AM26: =(tbl_MTG_Set[[#This Row],[Play Booster Box Cost]]+v_Item_Shipping_Cost_In)/tbl_MTG_Set[[#This Row],[Play Booster Box Size]] | AT26: =tbl_MTG_Set[[#This Row],[Play Booster Sell Price CardMarket]]*tbl_MTG_Set[[#This Row],[Play Booster Expected Market Value]]/tbl_MTG_Set[[#This Row],[Play Boost Sealed Market Value]]
A27: 62 | B27: Aetherdrift Art Series ADFT | C27: 54 | D27: 45702 | E27: Standard Expansion | F27: en es fr de it pt ja ko ru 汉语 漢語 | G27: 70 | H27: =MONTH(NOW())+12*YEAR(NOW())-MONTH(tbl_MTG_Set[[#This Row],[Released On]])-12*YEAR(tbl_MTG_Set[[#This Row],[Released On]]) | I27: =_xlfn.xlookup(tbl_MTG_Set[[#This Row],[Type Name]], tbl_MTG_Set_Type[Set Type], tbl_MTG_Set_Type[Index], "(Set Type not found)") | J27: =_xlfn.xlookup(tbl_MTG_Set[[#This Row],[Type Name]], tbl_MTG_Set_Type[Set Type], tbl_MTG_Set_Type[Buy Window Month Start], "(Set Type not found)") | K27: =tbl_MTG_Set[[#This Row],[Released On]]+tbl_MTG_Set[[#This Row],[Buy Window Month Start]]*365.25/12 | L27: =_xlfn.xlookup(tbl_MTG_Set[[#This Row],[Type Name]], tbl_MTG_Set_Type[Set Type], tbl_MTG_Set_Type[Buy Window Month End], "(Set Type not found)", 0, 1) | M27: =tbl_MTG_Set[[#This Row],[Released On]]+tbl_MTG_Set[[#This Row],[Buy Window Month End]]*365.25/12 | N27: =AND(NOW()>=tbl_MTG_Set[[#This Row],[Buy Window Start]], NOW()<=tbl_MTG_Set[[#This Row],[Buy Window End]]) | O27: =_xlfn.xlookup(tbl_MTG_Set[[#This Row],[Type Name]], tbl_MTG_Set_Type[Set Type], tbl_MTG_Set_Type[Heavy Printing Window Month Start], "(Set Type not found)", 0, 1) | P27: =tbl_MTG_Set[[#This Row],[Released On]]+tbl_MTG_Set[[#This Row],[Heavy Printing Window Month Start]]*365.25/12 | Q27: =_xlfn.xlookup(tbl_MTG_Set[[#This Row],[Type Name]], tbl_MTG_Set_Type[Set Type], tbl_MTG_Set_Type[Heavy Printing Window Month End], "(Set Type not found)", 0, 1) | R27: =tbl_MTG_Set[[#This Row],[Released On]]+tbl_MTG_Set[[#This Row],[Heavy Printing Window Month End]]*365.25/12 | S27: =AND(NOW()>=tbl_MTG_Set[[#This Row],[Heavy Printing Window Start]], NOW()<=tbl_MTG_Set[[#This Row],[Heavy Printing Window End]]) | T27: =_xlfn.xlookup(tbl_MTG_Set[[#This Row],[Type Name]], tbl_MTG_Set_Type[Set Type], tbl_MTG_Set_Type[Sell Window Month Start], "(Set Type not found)", 0, 1) | U27: =tbl_MTG_Set[[#This Row],[Released On]]+tbl_MTG_Set[[#This Row],[Sell Window Month Start]]*365.25/12 | V27: =_xlfn.xlookup(tbl_MTG_Set[[#This Row],[Type Name]], tbl_MTG_Set_Type[Set Type], tbl_MTG_Set_Type[Sell Window Month End], "(Set Type not found)", 0, 1) | W27: =tbl_MTG_Set[[#This Row],[Released On]]+tbl_MTG_Set[[#This Row],[Sell Window Month End]]*365.25/12 | X27: =AND(NOW()>=tbl_MTG_Set[[#This Row],[Sell Window Start]], NOW()<=tbl_MTG_Set[[#This Row],[Sell Window End]]) | AJ27: {=IF(ISERROR(MIN(_xlfn._xlws.filter(tbl_Sourcing[Source Unit Cost], (tbl_Sourcing[Product Id]=tbl_MTG_Set[[#This Row],[Play Booster Box Product Id]])*(tbl_Sourcing[Active]=TRUE())))), "", MIN(_xlfn._xlws.filter(tbl_Sourcing[Source Unit Cost], (tbl_Sourcing[Product Id]=tbl_MTG_Set[[#This Row],[Play Booster Box Product Id]])*(tbl_Sourcing[Active]=TRUE()))))} | AK27: {=IF(ISERROR(INDEX(_xlfn._xlws.filter(tbl_Sourcing[Source Name], (tbl_Sourcing[Product Id]=tbl_MTG_Set[[#This Row],[Play Booster Box Product Id]])*(tbl_Sourcing[Active]=TRUE())*(tbl_Sourcing[Source Unit Cost]=tbl_MTG_Set[[#This Row],[Play Booster Box Cost]])), 1)), "", INDEX(_xlfn._xlws.filter(tbl_Sourcing[Source Name], (tbl_Sourcing[Product Id]=tbl_MTG_Set[[#This Row],[Play Booster Box Product Id]])*(tbl_Sourcing[Active]=TRUE())*(tbl_Sourcing[Source Unit Cost]=tbl_MTG_Set[[#This Row],[Play Booster Box Cost]])), 1))} | AL27: =_xlfn.xlookup(tbl_MTG_Set[[#This Row],[Play Booster Box Product Id]], tbl_Product[Product Id], tbl_Product[Pack Size]) | AM27: =(tbl_MTG_Set[[#This Row],[Play Booster Box Cost]]+v_Item_Shipping_Cost_In)/tbl_MTG_Set[[#This Row],[Play Booster Box Size]] | AT27: =tbl_MTG_Set[[#This Row],[Play Booster Sell Price CardMarket]]*tbl_MTG_Set[[#This Row],[Play Booster Expected Market Value]]/tbl_MTG_Set[[#This Row],[Play Boost Sealed Market Value]]
